BEGIN:VCALENDAR
VERSION:2.0
PRODID:-//gemeindesanitz.de - ECPv5.12.4//NONSGML v1.0//EN
CALSCALE:GREGORIAN
METHOD:PUBLISH
X-WR-CALNAME:gemeindesanitz.de
X-ORIGINAL-URL:https://gemeindesanitz.de
X-WR-CALDESC:Events for gemeindesanitz.de
REFRESH-INTERVAL;VALUE=DURATION:PT1H
X-Robots-Tag:noindex
X-PUBLISHED-TTL:PT1H
BEGIN:VTIMEZONE
TZID:Europe/Berlin
BEGIN:DAYLIGHT
TZOFFSETFROM:+0100
TZOFFSETTO:+0200
TZNAME:CEST
DTSTART:20260329T010000
END:DAYLIGHT
BEGIN:STANDARD
TZOFFSETFROM:+0200
TZOFFSETTO:+0100
TZNAME:CET
DTSTART:20261025T010000
END:STANDARD
END:VTIMEZONE
BEGIN:VEVENT
DTSTART;TZID=Europe/Berlin:20260423T133000
DTEND;TZID=Europe/Berlin:20260423T153000
DTSTAMP:20260420T102107
CREATED:20250219T060027Z
LAST-MODIFIED:20250219T060027Z
UID:25545-1776951000-1776958200@gemeindesanitz.de
SUMMARY:Handarbeiten im Gemeinschaftshaus
DESCRIPTION:
URL:https://gemeindesanitz.de/event/handarbeiten/2026-04-23/
END:VEVENT
BEGIN:VEVENT
DTSTART;TZID=Europe/Berlin:20260430T133000
DTEND;TZID=Europe/Berlin:20260430T153000
DTSTAMP:20260420T102107
CREATED:20250219T060027Z
LAST-MODIFIED:20250219T060027Z
UID:25546-1777555800-1777563000@gemeindesanitz.de
SUMMARY:Handarbeiten im Gemeinschaftshaus
DESCRIPTION:
URL:https://gemeindesanitz.de/event/handarbeiten/2026-04-30/
END:VEVENT
BEGIN:VEVENT
DTSTART;TZID=Europe/Berlin:20260507T133000
DTEND;TZID=Europe/Berlin:20260507T153000
DTSTAMP:20260420T102107
CREATED:20250219T060027Z
LAST-MODIFIED:20250219T060027Z
UID:25547-1778160600-1778167800@gemeindesanitz.de
SUMMARY:Handarbeiten im Gemeinschaftshaus
DESCRIPTION:
URL:https://gemeindesanitz.de/event/handarbeiten/2026-05-07/
END:VEVENT
BEGIN:VEVENT
DTSTART;TZID=Europe/Berlin:20260514T133000
DTEND;TZID=Europe/Berlin:20260514T153000
DTSTAMP:20260420T102107
CREATED:20250219T060027Z
LAST-MODIFIED:20250219T060027Z
UID:25548-1778765400-1778772600@gemeindesanitz.de
SUMMARY:Handarbeiten im Gemeinschaftshaus
DESCRIPTION:
URL:https://gemeindesanitz.de/event/handarbeiten/2026-05-14/
END:VEVENT
BEGIN:VEVENT
DTSTART;TZID=Europe/Berlin:20260521T133000
DTEND;TZID=Europe/Berlin:20260521T153000
DTSTAMP:20260420T102107
CREATED:20250219T060027Z
LAST-MODIFIED:20250219T060027Z
UID:25549-1779370200-1779377400@gemeindesanitz.de
SUMMARY:Handarbeiten im Gemeinschaftshaus
DESCRIPTION:
URL:https://gemeindesanitz.de/event/handarbeiten/2026-05-21/
END:VEVENT
BEGIN:VEVENT
DTSTART;TZID=Europe/Berlin:20260528T133000
DTEND;TZID=Europe/Berlin:20260528T153000
DTSTAMP:20260420T102107
CREATED:20250219T060027Z
LAST-MODIFIED:20250219T060027Z
UID:25550-1779975000-1779982200@gemeindesanitz.de
SUMMARY:Handarbeiten im Gemeinschaftshaus
DESCRIPTION:
URL:https://gemeindesanitz.de/event/handarbeiten/2026-05-28/
END:VEVENT
BEGIN:VEVENT
DTSTART;TZID=Europe/Berlin:20260604T133000
DTEND;TZID=Europe/Berlin:20260604T153000
DTSTAMP:20260420T102107
CREATED:20250219T060027Z
LAST-MODIFIED:20250219T060027Z
UID:25551-1780579800-1780587000@gemeindesanitz.de
SUMMARY:Handarbeiten im Gemeinschaftshaus
DESCRIPTION:
URL:https://gemeindesanitz.de/event/handarbeiten/2026-06-04/
END:VEVENT
BEGIN:VEVENT
DTSTART;TZID=Europe/Berlin:20260611T133000
DTEND;TZID=Europe/Berlin:20260611T153000
DTSTAMP:20260420T102107
CREATED:20250219T060027Z
LAST-MODIFIED:20250219T060027Z
UID:25552-1781184600-1781191800@gemeindesanitz.de
SUMMARY:Handarbeiten im Gemeinschaftshaus
DESCRIPTION:
URL:https://gemeindesanitz.de/event/handarbeiten/2026-06-11/
END:VEVENT
BEGIN:VEVENT
DTSTART;TZID=Europe/Berlin:20260618T133000
DTEND;TZID=Europe/Berlin:20260618T153000
DTSTAMP:20260420T102107
CREATED:20250219T060027Z
LAST-MODIFIED:20250219T060027Z
UID:25553-1781789400-1781796600@gemeindesanitz.de
SUMMARY:Handarbeiten im Gemeinschaftshaus
DESCRIPTION:
URL:https://gemeindesanitz.de/event/handarbeiten/2026-06-18/
END:VEVENT
BEGIN:VEVENT
DTSTART;TZID=Europe/Berlin:20260625T133000
DTEND;TZID=Europe/Berlin:20260625T153000
DTSTAMP:20260420T102107
CREATED:20250219T060027Z
LAST-MODIFIED:20250219T060027Z
UID:25554-1782394200-1782401400@gemeindesanitz.de
SUMMARY:Handarbeiten im Gemeinschaftshaus
DESCRIPTION:
URL:https://gemeindesanitz.de/event/handarbeiten/2026-06-25/
END:VEVENT
BEGIN:VEVENT
DTSTART;TZID=Europe/Berlin:20260702T133000
DTEND;TZID=Europe/Berlin:20260702T153000
DTSTAMP:20260420T102107
CREATED:20250219T060027Z
LAST-MODIFIED:20250219T060027Z
UID:25555-1782999000-1783006200@gemeindesanitz.de
SUMMARY:Handarbeiten im Gemeinschaftshaus
DESCRIPTION:
URL:https://gemeindesanitz.de/event/handarbeiten/2026-07-02/
END:VEVENT
BEGIN:VEVENT
DTSTART;TZID=Europe/Berlin:20260709T133000
DTEND;TZID=Europe/Berlin:20260709T153000
DTSTAMP:20260420T102107
CREATED:20250219T060027Z
LAST-MODIFIED:20250219T060027Z
UID:25556-1783603800-1783611000@gemeindesanitz.de
SUMMARY:Handarbeiten im Gemeinschaftshaus
DESCRIPTION:
URL:https://gemeindesanitz.de/event/handarbeiten/2026-07-09/
END:VEVENT
BEGIN:VEVENT
DTSTART;TZID=Europe/Berlin:20260716T133000
DTEND;TZID=Europe/Berlin:20260716T153000
DTSTAMP:20260420T102107
CREATED:20250219T060027Z
LAST-MODIFIED:20250219T060027Z
UID:25557-1784208600-1784215800@gemeindesanitz.de
SUMMARY:Handarbeiten im Gemeinschaftshaus
DESCRIPTION:
URL:https://gemeindesanitz.de/event/handarbeiten/2026-07-16/
END:VEVENT
BEGIN:VEVENT
DTSTART;TZID=Europe/Berlin:20260723T133000
DTEND;TZID=Europe/Berlin:20260723T153000
DTSTAMP:20260420T102107
CREATED:20250219T060027Z
LAST-MODIFIED:20250219T060027Z
UID:25558-1784813400-1784820600@gemeindesanitz.de
SUMMARY:Handarbeiten im Gemeinschaftshaus
DESCRIPTION:
URL:https://gemeindesanitz.de/event/handarbeiten/2026-07-23/
END:VEVENT
BEGIN:VEVENT
DTSTART;TZID=Europe/Berlin:20260730T133000
DTEND;TZID=Europe/Berlin:20260730T153000
DTSTAMP:20260420T102108
CREATED:20250219T060027Z
LAST-MODIFIED:20250219T060027Z
UID:25559-1785418200-1785425400@gemeindesanitz.de
SUMMARY:Handarbeiten im Gemeinschaftshaus
DESCRIPTION:
URL:https://gemeindesanitz.de/event/handarbeiten/2026-07-30/
END:VEVENT
BEGIN:VEVENT
DTSTART;TZID=Europe/Berlin:20260806T133000
DTEND;TZID=Europe/Berlin:20260806T153000
DTSTAMP:20260420T102108
CREATED:20250219T060027Z
LAST-MODIFIED:20250219T060027Z
UID:25560-1786023000-1786030200@gemeindesanitz.de
SUMMARY:Handarbeiten im Gemeinschaftshaus
DESCRIPTION:
URL:https://gemeindesanitz.de/event/handarbeiten/2026-08-06/
END:VEVENT
BEGIN:VEVENT
DTSTART;TZID=Europe/Berlin:20260813T133000
DTEND;TZID=Europe/Berlin:20260813T153000
DTSTAMP:20260420T102108
CREATED:20250219T060027Z
LAST-MODIFIED:20250219T060027Z
UID:25561-1786627800-1786635000@gemeindesanitz.de
SUMMARY:Handarbeiten im Gemeinschaftshaus
DESCRIPTION:
URL:https://gemeindesanitz.de/event/handarbeiten/2026-08-13/
END:VEVENT
BEGIN:VEVENT
DTSTART;TZID=Europe/Berlin:20260820T133000
DTEND;TZID=Europe/Berlin:20260820T153000
DTSTAMP:20260420T102108
CREATED:20250219T060027Z
LAST-MODIFIED:20250219T060027Z
UID:25562-1787232600-1787239800@gemeindesanitz.de
SUMMARY:Handarbeiten im Gemeinschaftshaus
DESCRIPTION:
URL:https://gemeindesanitz.de/event/handarbeiten/2026-08-20/
END:VEVENT
BEGIN:VEVENT
DTSTART;TZID=Europe/Berlin:20260827T133000
DTEND;TZID=Europe/Berlin:20260827T153000
DTSTAMP:20260420T102108
CREATED:20250219T060027Z
LAST-MODIFIED:20250219T060027Z
UID:25563-1787837400-1787844600@gemeindesanitz.de
SUMMARY:Handarbeiten im Gemeinschaftshaus
DESCRIPTION:
URL:https://gemeindesanitz.de/event/handarbeiten/2026-08-27/
END:VEVENT
BEGIN:VEVENT
DTSTART;TZID=Europe/Berlin:20260903T133000
DTEND;TZID=Europe/Berlin:20260903T153000
DTSTAMP:20260420T102108
CREATED:20250219T060027Z
LAST-MODIFIED:20250219T060027Z
UID:25564-1788442200-1788449400@gemeindesanitz.de
SUMMARY:Handarbeiten im Gemeinschaftshaus
DESCRIPTION:
URL:https://gemeindesanitz.de/event/handarbeiten/2026-09-03/
END:VEVENT
BEGIN:VEVENT
DTSTART;TZID=Europe/Berlin:20260910T133000
DTEND;TZID=Europe/Berlin:20260910T153000
DTSTAMP:20260420T102108
CREATED:20250219T060027Z
LAST-MODIFIED:20250219T060027Z
UID:25565-1789047000-1789054200@gemeindesanitz.de
SUMMARY:Handarbeiten im Gemeinschaftshaus
DESCRIPTION:
URL:https://gemeindesanitz.de/event/handarbeiten/2026-09-10/
END:VEVENT
BEGIN:VEVENT
DTSTART;TZID=Europe/Berlin:20260917T133000
DTEND;TZID=Europe/Berlin:20260917T153000
DTSTAMP:20260420T102108
CREATED:20250219T060027Z
LAST-MODIFIED:20250219T060027Z
UID:25566-1789651800-1789659000@gemeindesanitz.de
SUMMARY:Handarbeiten im Gemeinschaftshaus
DESCRIPTION:
URL:https://gemeindesanitz.de/event/handarbeiten/2026-09-17/
END:VEVENT
BEGIN:VEVENT
DTSTART;TZID=Europe/Berlin:20260924T133000
DTEND;TZID=Europe/Berlin:20260924T153000
DTSTAMP:20260420T102108
CREATED:20250219T060027Z
LAST-MODIFIED:20250219T060027Z
UID:25567-1790256600-1790263800@gemeindesanitz.de
SUMMARY:Handarbeiten im Gemeinschaftshaus
DESCRIPTION:
URL:https://gemeindesanitz.de/event/handarbeiten/2026-09-24/
END:VEVENT
BEGIN:VEVENT
DTSTART;TZID=Europe/Berlin:20261001T133000
DTEND;TZID=Europe/Berlin:20261001T153000
DTSTAMP:20260420T102108
CREATED:20250219T060027Z
LAST-MODIFIED:20250219T060027Z
UID:25568-1790861400-1790868600@gemeindesanitz.de
SUMMARY:Handarbeiten im Gemeinschaftshaus
DESCRIPTION:
URL:https://gemeindesanitz.de/event/handarbeiten/2026-10-01/
END:VEVENT
BEGIN:VEVENT
DTSTART;TZID=Europe/Berlin:20261008T133000
DTEND;TZID=Europe/Berlin:20261008T153000
DTSTAMP:20260420T102108
CREATED:20250219T060027Z
LAST-MODIFIED:20250219T060027Z
UID:25569-1791466200-1791473400@gemeindesanitz.de
SUMMARY:Handarbeiten im Gemeinschaftshaus
DESCRIPTION:
URL:https://gemeindesanitz.de/event/handarbeiten/2026-10-08/
END:VEVENT
BEGIN:VEVENT
DTSTART;TZID=Europe/Berlin:20261015T133000
DTEND;TZID=Europe/Berlin:20261015T153000
DTSTAMP:20260420T102108
CREATED:20250219T060027Z
LAST-MODIFIED:20250219T060027Z
UID:25570-1792071000-1792078200@gemeindesanitz.de
SUMMARY:Handarbeiten im Gemeinschaftshaus
DESCRIPTION:
URL:https://gemeindesanitz.de/event/handarbeiten/2026-10-15/
END:VEVENT
BEGIN:VEVENT
DTSTART;TZID=Europe/Berlin:20261022T133000
DTEND;TZID=Europe/Berlin:20261022T153000
DTSTAMP:20260420T102108
CREATED:20250219T060027Z
LAST-MODIFIED:20250219T060027Z
UID:25571-1792675800-1792683000@gemeindesanitz.de
SUMMARY:Handarbeiten im Gemeinschaftshaus
DESCRIPTION:
URL:https://gemeindesanitz.de/event/handarbeiten/2026-10-22/
END:VEVENT
BEGIN:VEVENT
DTSTART;TZID=Europe/Berlin:20261029T133000
DTEND;TZID=Europe/Berlin:20261029T153000
DTSTAMP:20260420T102108
CREATED:20250219T060027Z
LAST-MODIFIED:20250219T060027Z
UID:25572-1793280600-1793287800@gemeindesanitz.de
SUMMARY:Handarbeiten im Gemeinschaftshaus
DESCRIPTION:
URL:https://gemeindesanitz.de/event/handarbeiten/2026-10-29/
END:VEVENT
BEGIN:VEVENT
DTSTART;TZID=Europe/Berlin:20261105T133000
DTEND;TZID=Europe/Berlin:20261105T153000
DTSTAMP:20260420T102108
CREATED:20250219T060027Z
LAST-MODIFIED:20250219T060027Z
UID:25573-1793885400-1793892600@gemeindesanitz.de
SUMMARY:Handarbeiten im Gemeinschaftshaus
DESCRIPTION:
URL:https://gemeindesanitz.de/event/handarbeiten/2026-11-05/
END:VEVENT
BEGIN:VEVENT
DTSTART;TZID=Europe/Berlin:20261112T133000
DTEND;TZID=Europe/Berlin:20261112T153000
DTSTAMP:20260420T102108
CREATED:20250219T060027Z
LAST-MODIFIED:20250219T060027Z
UID:25574-1794490200-1794497400@gemeindesanitz.de
SUMMARY:Handarbeiten im Gemeinschaftshaus
DESCRIPTION:
URL:https://gemeindesanitz.de/event/handarbeiten/2026-11-12/
END:VEVENT
END:VCALENDAR