BEGIN:VCALENDAR
VERSION:2.0
PRODID:-//gemeindesanitz.de - ECPv5.12.4//NONSGML v1.0//EN
CALSCALE:GREGORIAN
METHOD:PUBLISH
X-WR-CALNAME:gemeindesanitz.de
X-ORIGINAL-URL:https://gemeindesanitz.de
X-WR-CALDESC:Events for gemeindesanitz.de
REFRESH-INTERVAL;VALUE=DURATION:PT1H
X-Robots-Tag:noindex
X-PUBLISHED-TTL:PT1H
BEGIN:VTIMEZONE
TZID:Europe/Berlin
BEGIN:DAYLIGHT
TZOFFSETFROM:+0100
TZOFFSETTO:+0200
TZNAME:CEST
DTSTART:20260329T010000
END:DAYLIGHT
BEGIN:STANDARD
TZOFFSETFROM:+0200
TZOFFSETTO:+0100
TZNAME:CET
DTSTART:20261025T010000
END:STANDARD
END:VTIMEZONE
BEGIN:VEVENT
DTSTART;TZID=Europe/Berlin:20260430T180000
DTEND;TZID=Europe/Berlin:20260430T200000
DTSTAMP:20260424T191718
CREATED:20260424T104529Z
LAST-MODIFIED:20260424T104529Z
UID:27376-1777572000-1777579200@gemeindesanitz.de
SUMMARY:"Mein Smartphone\, Tablet und ich" - für Senioren
DESCRIPTION:
URL:https://gemeindesanitz.de/event/mein-smartphone-tablet-und-ich-fuer-senioren-2/2026-04-30/
LOCATION:Gemeinschaftshaus Sanitz\, Hof Sanitz 1\, Sanitz\, Mecklenburg Vorpommern\, 18190\, Germany
ORGANIZER;CN="Verein%20Sanitzer%20Gemeinschaft%20e.V.":MAILTO:sanitzergemeinschaft@gmail.com
END:VEVENT
BEGIN:VEVENT
DTSTART;TZID=Europe/Berlin:20260507T180000
DTEND;TZID=Europe/Berlin:20260507T200000
DTSTAMP:20260424T191718
CREATED:20260424T104529Z
LAST-MODIFIED:20260424T104529Z
UID:27377-1778176800-1778184000@gemeindesanitz.de
SUMMARY:"Mein Smartphone\, Tablet und ich" - für Senioren
DESCRIPTION:
URL:https://gemeindesanitz.de/event/mein-smartphone-tablet-und-ich-fuer-senioren-2/2026-05-07/
LOCATION:Gemeinschaftshaus Sanitz\, Hof Sanitz 1\, Sanitz\, Mecklenburg Vorpommern\, 18190\, Germany
ORGANIZER;CN="Verein%20Sanitzer%20Gemeinschaft%20e.V.":MAILTO:sanitzergemeinschaft@gmail.com
END:VEVENT
BEGIN:VEVENT
DTSTART;TZID=Europe/Berlin:20260514T180000
DTEND;TZID=Europe/Berlin:20260514T200000
DTSTAMP:20260424T191718
CREATED:20260424T104529Z
LAST-MODIFIED:20260424T104529Z
UID:27378-1778781600-1778788800@gemeindesanitz.de
SUMMARY:"Mein Smartphone\, Tablet und ich" - für Senioren
DESCRIPTION:
URL:https://gemeindesanitz.de/event/mein-smartphone-tablet-und-ich-fuer-senioren-2/2026-05-14/
LOCATION:Gemeinschaftshaus Sanitz\, Hof Sanitz 1\, Sanitz\, Mecklenburg Vorpommern\, 18190\, Germany
ORGANIZER;CN="Verein%20Sanitzer%20Gemeinschaft%20e.V.":MAILTO:sanitzergemeinschaft@gmail.com
END:VEVENT
BEGIN:VEVENT
DTSTART;TZID=Europe/Berlin:20260521T180000
DTEND;TZID=Europe/Berlin:20260521T200000
DTSTAMP:20260424T191718
CREATED:20260424T104529Z
LAST-MODIFIED:20260424T104529Z
UID:27379-1779386400-1779393600@gemeindesanitz.de
SUMMARY:"Mein Smartphone\, Tablet und ich" - für Senioren
DESCRIPTION:
URL:https://gemeindesanitz.de/event/mein-smartphone-tablet-und-ich-fuer-senioren-2/2026-05-21/
LOCATION:Gemeinschaftshaus Sanitz\, Hof Sanitz 1\, Sanitz\, Mecklenburg Vorpommern\, 18190\, Germany
ORGANIZER;CN="Verein%20Sanitzer%20Gemeinschaft%20e.V.":MAILTO:sanitzergemeinschaft@gmail.com
END:VEVENT
BEGIN:VEVENT
DTSTART;TZID=Europe/Berlin:20260528T180000
DTEND;TZID=Europe/Berlin:20260528T200000
DTSTAMP:20260424T191718
CREATED:20260424T104529Z
LAST-MODIFIED:20260424T104529Z
UID:27380-1779991200-1779998400@gemeindesanitz.de
SUMMARY:"Mein Smartphone\, Tablet und ich" - für Senioren
DESCRIPTION:
URL:https://gemeindesanitz.de/event/mein-smartphone-tablet-und-ich-fuer-senioren-2/2026-05-28/
LOCATION:Gemeinschaftshaus Sanitz\, Hof Sanitz 1\, Sanitz\, Mecklenburg Vorpommern\, 18190\, Germany
ORGANIZER;CN="Verein%20Sanitzer%20Gemeinschaft%20e.V.":MAILTO:sanitzergemeinschaft@gmail.com
END:VEVENT
BEGIN:VEVENT
DTSTART;TZID=Europe/Berlin:20260604T180000
DTEND;TZID=Europe/Berlin:20260604T200000
DTSTAMP:20260424T191718
CREATED:20260424T104529Z
LAST-MODIFIED:20260424T104529Z
UID:27381-1780596000-1780603200@gemeindesanitz.de
SUMMARY:"Mein Smartphone\, Tablet und ich" - für Senioren
DESCRIPTION:
URL:https://gemeindesanitz.de/event/mein-smartphone-tablet-und-ich-fuer-senioren-2/2026-06-04/
LOCATION:Gemeinschaftshaus Sanitz\, Hof Sanitz 1\, Sanitz\, Mecklenburg Vorpommern\, 18190\, Germany
ORGANIZER;CN="Verein%20Sanitzer%20Gemeinschaft%20e.V.":MAILTO:sanitzergemeinschaft@gmail.com
END:VEVENT
BEGIN:VEVENT
DTSTART;TZID=Europe/Berlin:20260611T180000
DTEND;TZID=Europe/Berlin:20260611T200000
DTSTAMP:20260424T191718
CREATED:20260424T104529Z
LAST-MODIFIED:20260424T104529Z
UID:27382-1781200800-1781208000@gemeindesanitz.de
SUMMARY:"Mein Smartphone\, Tablet und ich" - für Senioren
DESCRIPTION:
URL:https://gemeindesanitz.de/event/mein-smartphone-tablet-und-ich-fuer-senioren-2/2026-06-11/
LOCATION:Gemeinschaftshaus Sanitz\, Hof Sanitz 1\, Sanitz\, Mecklenburg Vorpommern\, 18190\, Germany
ORGANIZER;CN="Verein%20Sanitzer%20Gemeinschaft%20e.V.":MAILTO:sanitzergemeinschaft@gmail.com
END:VEVENT
BEGIN:VEVENT
DTSTART;TZID=Europe/Berlin:20260618T180000
DTEND;TZID=Europe/Berlin:20260618T200000
DTSTAMP:20260424T191718
CREATED:20260424T104529Z
LAST-MODIFIED:20260424T104529Z
UID:27383-1781805600-1781812800@gemeindesanitz.de
SUMMARY:"Mein Smartphone\, Tablet und ich" - für Senioren
DESCRIPTION:
URL:https://gemeindesanitz.de/event/mein-smartphone-tablet-und-ich-fuer-senioren-2/2026-06-18/
LOCATION:Gemeinschaftshaus Sanitz\, Hof Sanitz 1\, Sanitz\, Mecklenburg Vorpommern\, 18190\, Germany
ORGANIZER;CN="Verein%20Sanitzer%20Gemeinschaft%20e.V.":MAILTO:sanitzergemeinschaft@gmail.com
END:VEVENT
BEGIN:VEVENT
DTSTART;TZID=Europe/Berlin:20260625T180000
DTEND;TZID=Europe/Berlin:20260625T200000
DTSTAMP:20260424T191718
CREATED:20260424T104529Z
LAST-MODIFIED:20260424T104529Z
UID:27384-1782410400-1782417600@gemeindesanitz.de
SUMMARY:"Mein Smartphone\, Tablet und ich" - für Senioren
DESCRIPTION:
URL:https://gemeindesanitz.de/event/mein-smartphone-tablet-und-ich-fuer-senioren-2/2026-06-25/
LOCATION:Gemeinschaftshaus Sanitz\, Hof Sanitz 1\, Sanitz\, Mecklenburg Vorpommern\, 18190\, Germany
ORGANIZER;CN="Verein%20Sanitzer%20Gemeinschaft%20e.V.":MAILTO:sanitzergemeinschaft@gmail.com
END:VEVENT
BEGIN:VEVENT
DTSTART;TZID=Europe/Berlin:20260702T180000
DTEND;TZID=Europe/Berlin:20260702T200000
DTSTAMP:20260424T191718
CREATED:20260424T104529Z
LAST-MODIFIED:20260424T104529Z
UID:27385-1783015200-1783022400@gemeindesanitz.de
SUMMARY:"Mein Smartphone\, Tablet und ich" - für Senioren
DESCRIPTION:
URL:https://gemeindesanitz.de/event/mein-smartphone-tablet-und-ich-fuer-senioren-2/2026-07-02/
LOCATION:Gemeinschaftshaus Sanitz\, Hof Sanitz 1\, Sanitz\, Mecklenburg Vorpommern\, 18190\, Germany
ORGANIZER;CN="Verein%20Sanitzer%20Gemeinschaft%20e.V.":MAILTO:sanitzergemeinschaft@gmail.com
END:VEVENT
BEGIN:VEVENT
DTSTART;TZID=Europe/Berlin:20260709T180000
DTEND;TZID=Europe/Berlin:20260709T200000
DTSTAMP:20260424T191718
CREATED:20260424T104529Z
LAST-MODIFIED:20260424T104529Z
UID:27386-1783620000-1783627200@gemeindesanitz.de
SUMMARY:"Mein Smartphone\, Tablet und ich" - für Senioren
DESCRIPTION:
URL:https://gemeindesanitz.de/event/mein-smartphone-tablet-und-ich-fuer-senioren-2/2026-07-09/
LOCATION:Gemeinschaftshaus Sanitz\, Hof Sanitz 1\, Sanitz\, Mecklenburg Vorpommern\, 18190\, Germany
ORGANIZER;CN="Verein%20Sanitzer%20Gemeinschaft%20e.V.":MAILTO:sanitzergemeinschaft@gmail.com
END:VEVENT
BEGIN:VEVENT
DTSTART;TZID=Europe/Berlin:20260716T180000
DTEND;TZID=Europe/Berlin:20260716T200000
DTSTAMP:20260424T191718
CREATED:20260424T104529Z
LAST-MODIFIED:20260424T104529Z
UID:27387-1784224800-1784232000@gemeindesanitz.de
SUMMARY:"Mein Smartphone\, Tablet und ich" - für Senioren
DESCRIPTION:
URL:https://gemeindesanitz.de/event/mein-smartphone-tablet-und-ich-fuer-senioren-2/2026-07-16/
LOCATION:Gemeinschaftshaus Sanitz\, Hof Sanitz 1\, Sanitz\, Mecklenburg Vorpommern\, 18190\, Germany
ORGANIZER;CN="Verein%20Sanitzer%20Gemeinschaft%20e.V.":MAILTO:sanitzergemeinschaft@gmail.com
END:VEVENT
BEGIN:VEVENT
DTSTART;TZID=Europe/Berlin:20260723T180000
DTEND;TZID=Europe/Berlin:20260723T200000
DTSTAMP:20260424T191718
CREATED:20260424T104529Z
LAST-MODIFIED:20260424T104529Z
UID:27388-1784829600-1784836800@gemeindesanitz.de
SUMMARY:"Mein Smartphone\, Tablet und ich" - für Senioren
DESCRIPTION:
URL:https://gemeindesanitz.de/event/mein-smartphone-tablet-und-ich-fuer-senioren-2/2026-07-23/
LOCATION:Gemeinschaftshaus Sanitz\, Hof Sanitz 1\, Sanitz\, Mecklenburg Vorpommern\, 18190\, Germany
ORGANIZER;CN="Verein%20Sanitzer%20Gemeinschaft%20e.V.":MAILTO:sanitzergemeinschaft@gmail.com
END:VEVENT
BEGIN:VEVENT
DTSTART;TZID=Europe/Berlin:20260730T180000
DTEND;TZID=Europe/Berlin:20260730T200000
DTSTAMP:20260424T191718
CREATED:20260424T104529Z
LAST-MODIFIED:20260424T104529Z
UID:27389-1785434400-1785441600@gemeindesanitz.de
SUMMARY:"Mein Smartphone\, Tablet und ich" - für Senioren
DESCRIPTION:
URL:https://gemeindesanitz.de/event/mein-smartphone-tablet-und-ich-fuer-senioren-2/2026-07-30/
LOCATION:Gemeinschaftshaus Sanitz\, Hof Sanitz 1\, Sanitz\, Mecklenburg Vorpommern\, 18190\, Germany
ORGANIZER;CN="Verein%20Sanitzer%20Gemeinschaft%20e.V.":MAILTO:sanitzergemeinschaft@gmail.com
END:VEVENT
BEGIN:VEVENT
DTSTART;TZID=Europe/Berlin:20260806T180000
DTEND;TZID=Europe/Berlin:20260806T200000
DTSTAMP:20260424T191718
CREATED:20260424T104529Z
LAST-MODIFIED:20260424T104529Z
UID:27390-1786039200-1786046400@gemeindesanitz.de
SUMMARY:"Mein Smartphone\, Tablet und ich" - für Senioren
DESCRIPTION:
URL:https://gemeindesanitz.de/event/mein-smartphone-tablet-und-ich-fuer-senioren-2/2026-08-06/
LOCATION:Gemeinschaftshaus Sanitz\, Hof Sanitz 1\, Sanitz\, Mecklenburg Vorpommern\, 18190\, Germany
ORGANIZER;CN="Verein%20Sanitzer%20Gemeinschaft%20e.V.":MAILTO:sanitzergemeinschaft@gmail.com
END:VEVENT
BEGIN:VEVENT
DTSTART;TZID=Europe/Berlin:20260813T180000
DTEND;TZID=Europe/Berlin:20260813T200000
DTSTAMP:20260424T191718
CREATED:20260424T104529Z
LAST-MODIFIED:20260424T104529Z
UID:27391-1786644000-1786651200@gemeindesanitz.de
SUMMARY:"Mein Smartphone\, Tablet und ich" - für Senioren
DESCRIPTION:
URL:https://gemeindesanitz.de/event/mein-smartphone-tablet-und-ich-fuer-senioren-2/2026-08-13/
LOCATION:Gemeinschaftshaus Sanitz\, Hof Sanitz 1\, Sanitz\, Mecklenburg Vorpommern\, 18190\, Germany
ORGANIZER;CN="Verein%20Sanitzer%20Gemeinschaft%20e.V.":MAILTO:sanitzergemeinschaft@gmail.com
END:VEVENT
BEGIN:VEVENT
DTSTART;TZID=Europe/Berlin:20260820T180000
DTEND;TZID=Europe/Berlin:20260820T200000
DTSTAMP:20260424T191718
CREATED:20260424T104529Z
LAST-MODIFIED:20260424T104529Z
UID:27392-1787248800-1787256000@gemeindesanitz.de
SUMMARY:"Mein Smartphone\, Tablet und ich" - für Senioren
DESCRIPTION:
URL:https://gemeindesanitz.de/event/mein-smartphone-tablet-und-ich-fuer-senioren-2/2026-08-20/
LOCATION:Gemeinschaftshaus Sanitz\, Hof Sanitz 1\, Sanitz\, Mecklenburg Vorpommern\, 18190\, Germany
ORGANIZER;CN="Verein%20Sanitzer%20Gemeinschaft%20e.V.":MAILTO:sanitzergemeinschaft@gmail.com
END:VEVENT
BEGIN:VEVENT
DTSTART;TZID=Europe/Berlin:20260827T180000
DTEND;TZID=Europe/Berlin:20260827T200000
DTSTAMP:20260424T191718
CREATED:20260424T104529Z
LAST-MODIFIED:20260424T104529Z
UID:27393-1787853600-1787860800@gemeindesanitz.de
SUMMARY:"Mein Smartphone\, Tablet und ich" - für Senioren
DESCRIPTION:
URL:https://gemeindesanitz.de/event/mein-smartphone-tablet-und-ich-fuer-senioren-2/2026-08-27/
LOCATION:Gemeinschaftshaus Sanitz\, Hof Sanitz 1\, Sanitz\, Mecklenburg Vorpommern\, 18190\, Germany
ORGANIZER;CN="Verein%20Sanitzer%20Gemeinschaft%20e.V.":MAILTO:sanitzergemeinschaft@gmail.com
END:VEVENT
BEGIN:VEVENT
DTSTART;TZID=Europe/Berlin:20260903T180000
DTEND;TZID=Europe/Berlin:20260903T200000
DTSTAMP:20260424T191718
CREATED:20260424T104529Z
LAST-MODIFIED:20260424T104529Z
UID:27394-1788458400-1788465600@gemeindesanitz.de
SUMMARY:"Mein Smartphone\, Tablet und ich" - für Senioren
DESCRIPTION:
URL:https://gemeindesanitz.de/event/mein-smartphone-tablet-und-ich-fuer-senioren-2/2026-09-03/
LOCATION:Gemeinschaftshaus Sanitz\, Hof Sanitz 1\, Sanitz\, Mecklenburg Vorpommern\, 18190\, Germany
ORGANIZER;CN="Verein%20Sanitzer%20Gemeinschaft%20e.V.":MAILTO:sanitzergemeinschaft@gmail.com
END:VEVENT
BEGIN:VEVENT
DTSTART;TZID=Europe/Berlin:20260910T180000
DTEND;TZID=Europe/Berlin:20260910T200000
DTSTAMP:20260424T191718
CREATED:20260424T104529Z
LAST-MODIFIED:20260424T104529Z
UID:27395-1789063200-1789070400@gemeindesanitz.de
SUMMARY:"Mein Smartphone\, Tablet und ich" - für Senioren
DESCRIPTION:
URL:https://gemeindesanitz.de/event/mein-smartphone-tablet-und-ich-fuer-senioren-2/2026-09-10/
LOCATION:Gemeinschaftshaus Sanitz\, Hof Sanitz 1\, Sanitz\, Mecklenburg Vorpommern\, 18190\, Germany
ORGANIZER;CN="Verein%20Sanitzer%20Gemeinschaft%20e.V.":MAILTO:sanitzergemeinschaft@gmail.com
END:VEVENT
BEGIN:VEVENT
DTSTART;TZID=Europe/Berlin:20260917T180000
DTEND;TZID=Europe/Berlin:20260917T200000
DTSTAMP:20260424T191718
CREATED:20260424T104529Z
LAST-MODIFIED:20260424T104529Z
UID:27396-1789668000-1789675200@gemeindesanitz.de
SUMMARY:"Mein Smartphone\, Tablet und ich" - für Senioren
DESCRIPTION:
URL:https://gemeindesanitz.de/event/mein-smartphone-tablet-und-ich-fuer-senioren-2/2026-09-17/
LOCATION:Gemeinschaftshaus Sanitz\, Hof Sanitz 1\, Sanitz\, Mecklenburg Vorpommern\, 18190\, Germany
ORGANIZER;CN="Verein%20Sanitzer%20Gemeinschaft%20e.V.":MAILTO:sanitzergemeinschaft@gmail.com
END:VEVENT
BEGIN:VEVENT
DTSTART;TZID=Europe/Berlin:20260924T180000
DTEND;TZID=Europe/Berlin:20260924T200000
DTSTAMP:20260424T191718
CREATED:20260424T104529Z
LAST-MODIFIED:20260424T104529Z
UID:27397-1790272800-1790280000@gemeindesanitz.de
SUMMARY:"Mein Smartphone\, Tablet und ich" - für Senioren
DESCRIPTION:
URL:https://gemeindesanitz.de/event/mein-smartphone-tablet-und-ich-fuer-senioren-2/2026-09-24/
LOCATION:Gemeinschaftshaus Sanitz\, Hof Sanitz 1\, Sanitz\, Mecklenburg Vorpommern\, 18190\, Germany
ORGANIZER;CN="Verein%20Sanitzer%20Gemeinschaft%20e.V.":MAILTO:sanitzergemeinschaft@gmail.com
END:VEVENT
BEGIN:VEVENT
DTSTART;TZID=Europe/Berlin:20261001T180000
DTEND;TZID=Europe/Berlin:20261001T200000
DTSTAMP:20260424T191718
CREATED:20260424T104529Z
LAST-MODIFIED:20260424T104529Z
UID:27398-1790877600-1790884800@gemeindesanitz.de
SUMMARY:"Mein Smartphone\, Tablet und ich" - für Senioren
DESCRIPTION:
URL:https://gemeindesanitz.de/event/mein-smartphone-tablet-und-ich-fuer-senioren-2/2026-10-01/
LOCATION:Gemeinschaftshaus Sanitz\, Hof Sanitz 1\, Sanitz\, Mecklenburg Vorpommern\, 18190\, Germany
ORGANIZER;CN="Verein%20Sanitzer%20Gemeinschaft%20e.V.":MAILTO:sanitzergemeinschaft@gmail.com
END:VEVENT
BEGIN:VEVENT
DTSTART;TZID=Europe/Berlin:20261008T180000
DTEND;TZID=Europe/Berlin:20261008T200000
DTSTAMP:20260424T191718
CREATED:20260424T104529Z
LAST-MODIFIED:20260424T104529Z
UID:27399-1791482400-1791489600@gemeindesanitz.de
SUMMARY:"Mein Smartphone\, Tablet und ich" - für Senioren
DESCRIPTION:
URL:https://gemeindesanitz.de/event/mein-smartphone-tablet-und-ich-fuer-senioren-2/2026-10-08/
LOCATION:Gemeinschaftshaus Sanitz\, Hof Sanitz 1\, Sanitz\, Mecklenburg Vorpommern\, 18190\, Germany
ORGANIZER;CN="Verein%20Sanitzer%20Gemeinschaft%20e.V.":MAILTO:sanitzergemeinschaft@gmail.com
END:VEVENT
BEGIN:VEVENT
DTSTART;TZID=Europe/Berlin:20261015T180000
DTEND;TZID=Europe/Berlin:20261015T200000
DTSTAMP:20260424T191718
CREATED:20260424T104529Z
LAST-MODIFIED:20260424T104529Z
UID:27400-1792087200-1792094400@gemeindesanitz.de
SUMMARY:"Mein Smartphone\, Tablet und ich" - für Senioren
DESCRIPTION:
URL:https://gemeindesanitz.de/event/mein-smartphone-tablet-und-ich-fuer-senioren-2/2026-10-15/
LOCATION:Gemeinschaftshaus Sanitz\, Hof Sanitz 1\, Sanitz\, Mecklenburg Vorpommern\, 18190\, Germany
ORGANIZER;CN="Verein%20Sanitzer%20Gemeinschaft%20e.V.":MAILTO:sanitzergemeinschaft@gmail.com
END:VEVENT
BEGIN:VEVENT
DTSTART;TZID=Europe/Berlin:20261022T180000
DTEND;TZID=Europe/Berlin:20261022T200000
DTSTAMP:20260424T191718
CREATED:20260424T104529Z
LAST-MODIFIED:20260424T104529Z
UID:27401-1792692000-1792699200@gemeindesanitz.de
SUMMARY:"Mein Smartphone\, Tablet und ich" - für Senioren
DESCRIPTION:
URL:https://gemeindesanitz.de/event/mein-smartphone-tablet-und-ich-fuer-senioren-2/2026-10-22/
LOCATION:Gemeinschaftshaus Sanitz\, Hof Sanitz 1\, Sanitz\, Mecklenburg Vorpommern\, 18190\, Germany
ORGANIZER;CN="Verein%20Sanitzer%20Gemeinschaft%20e.V.":MAILTO:sanitzergemeinschaft@gmail.com
END:VEVENT
BEGIN:VEVENT
DTSTART;TZID=Europe/Berlin:20261029T180000
DTEND;TZID=Europe/Berlin:20261029T200000
DTSTAMP:20260424T191718
CREATED:20260424T104529Z
LAST-MODIFIED:20260424T104529Z
UID:27402-1793296800-1793304000@gemeindesanitz.de
SUMMARY:"Mein Smartphone\, Tablet und ich" - für Senioren
DESCRIPTION:
URL:https://gemeindesanitz.de/event/mein-smartphone-tablet-und-ich-fuer-senioren-2/2026-10-29/
LOCATION:Gemeinschaftshaus Sanitz\, Hof Sanitz 1\, Sanitz\, Mecklenburg Vorpommern\, 18190\, Germany
ORGANIZER;CN="Verein%20Sanitzer%20Gemeinschaft%20e.V.":MAILTO:sanitzergemeinschaft@gmail.com
END:VEVENT
BEGIN:VEVENT
DTSTART;TZID=Europe/Berlin:20261105T180000
DTEND;TZID=Europe/Berlin:20261105T200000
DTSTAMP:20260424T191718
CREATED:20260424T104529Z
LAST-MODIFIED:20260424T104529Z
UID:27403-1793901600-1793908800@gemeindesanitz.de
SUMMARY:"Mein Smartphone\, Tablet und ich" - für Senioren
DESCRIPTION:
URL:https://gemeindesanitz.de/event/mein-smartphone-tablet-und-ich-fuer-senioren-2/2026-11-05/
LOCATION:Gemeinschaftshaus Sanitz\, Hof Sanitz 1\, Sanitz\, Mecklenburg Vorpommern\, 18190\, Germany
ORGANIZER;CN="Verein%20Sanitzer%20Gemeinschaft%20e.V.":MAILTO:sanitzergemeinschaft@gmail.com
END:VEVENT
BEGIN:VEVENT
DTSTART;TZID=Europe/Berlin:20261112T180000
DTEND;TZID=Europe/Berlin:20261112T200000
DTSTAMP:20260424T191718
CREATED:20260424T104529Z
LAST-MODIFIED:20260424T104529Z
UID:27404-1794506400-1794513600@gemeindesanitz.de
SUMMARY:"Mein Smartphone\, Tablet und ich" - für Senioren
DESCRIPTION:
URL:https://gemeindesanitz.de/event/mein-smartphone-tablet-und-ich-fuer-senioren-2/2026-11-12/
LOCATION:Gemeinschaftshaus Sanitz\, Hof Sanitz 1\, Sanitz\, Mecklenburg Vorpommern\, 18190\, Germany
ORGANIZER;CN="Verein%20Sanitzer%20Gemeinschaft%20e.V.":MAILTO:sanitzergemeinschaft@gmail.com
END:VEVENT
BEGIN:VEVENT
DTSTART;TZID=Europe/Berlin:20261119T180000
DTEND;TZID=Europe/Berlin:20261119T200000
DTSTAMP:20260424T191718
CREATED:20260424T104529Z
LAST-MODIFIED:20260424T104529Z
UID:27405-1795111200-1795118400@gemeindesanitz.de
SUMMARY:"Mein Smartphone\, Tablet und ich" - für Senioren
DESCRIPTION:
URL:https://gemeindesanitz.de/event/mein-smartphone-tablet-und-ich-fuer-senioren-2/2026-11-19/
LOCATION:Gemeinschaftshaus Sanitz\, Hof Sanitz 1\, Sanitz\, Mecklenburg Vorpommern\, 18190\, Germany
ORGANIZER;CN="Verein%20Sanitzer%20Gemeinschaft%20e.V.":MAILTO:sanitzergemeinschaft@gmail.com
END:VEVENT
END:VCALENDAR