BEGIN:VCALENDAR
VERSION:2.0
PRODID:-//gemeindesanitz.de - ECPv5.12.4//NONSGML v1.0//EN
CALSCALE:GREGORIAN
METHOD:PUBLISH
X-WR-CALNAME:gemeindesanitz.de
X-ORIGINAL-URL:https://gemeindesanitz.de
X-WR-CALDESC:Events for gemeindesanitz.de
REFRESH-INTERVAL;VALUE=DURATION:PT1H
X-Robots-Tag:noindex
X-PUBLISHED-TTL:PT1H
BEGIN:VTIMEZONE
TZID:Europe/Berlin
BEGIN:DAYLIGHT
TZOFFSETFROM:+0100
TZOFFSETTO:+0200
TZNAME:CEST
DTSTART:20260329T010000
END:DAYLIGHT
BEGIN:STANDARD
TZOFFSETFROM:+0200
TZOFFSETTO:+0100
TZNAME:CET
DTSTART:20261025T010000
END:STANDARD
END:VTIMEZONE
BEGIN:VEVENT
DTSTART;TZID=Europe/Berlin:20261231T180000
DTEND;TZID=Europe/Berlin:20261231T200000
DTSTAMP:20260425T043850
CREATED:20260424T104529Z
LAST-MODIFIED:20260424T104529Z
UID:27411-1798740000-1798747200@gemeindesanitz.de
SUMMARY:"Mein Smartphone\, Tablet und ich" - für Senioren
DESCRIPTION:
URL:https://gemeindesanitz.de/event/mein-smartphone-tablet-und-ich-fuer-senioren-2/2026-12-31/
LOCATION:Gemeinschaftshaus Sanitz\, Hof Sanitz 1\, Sanitz\, Mecklenburg Vorpommern\, 18190\, Germany
ORGANIZER;CN="Verein%20Sanitzer%20Gemeinschaft%20e.V.":MAILTO:sanitzergemeinschaft@gmail.com
END:VEVENT
END:VCALENDAR