BEGIN:VCALENDAR
VERSION:2.0
PRODID:-//gemeindesanitz.de - ECPv5.12.4//NONSGML v1.0//EN
CALSCALE:GREGORIAN
METHOD:PUBLISH
X-WR-CALNAME:gemeindesanitz.de
X-ORIGINAL-URL:https://gemeindesanitz.de
X-WR-CALDESC:Events for gemeindesanitz.de
REFRESH-INTERVAL;VALUE=DURATION:PT1H
X-Robots-Tag:noindex
X-PUBLISHED-TTL:PT1H
BEGIN:VTIMEZONE
TZID:Europe/Berlin
BEGIN:DAYLIGHT
TZOFFSETFROM:+0100
TZOFFSETTO:+0200
TZNAME:CEST
DTSTART:20260329T010000
END:DAYLIGHT
BEGIN:STANDARD
TZOFFSETFROM:+0200
TZOFFSETTO:+0100
TZNAME:CET
DTSTART:20261025T010000
END:STANDARD
END:VTIMEZONE
BEGIN:VEVENT
DTSTART;TZID=Europe/Berlin:20260427T144500
DTEND;TZID=Europe/Berlin:20260427T154500
DTSTAMP:20260425T032812
CREATED:20260424T103735Z
LAST-MODIFIED:20260424T103735Z
UID:27109-1777301100-1777304700@gemeindesanitz.de
SUMMARY:Seniorensport für Anfänger
DESCRIPTION:
URL:https://gemeindesanitz.de/event/seniorensport-fuer-anfaenger/2026-04-27/
LOCATION:Gemeinschaftshaus Sanitz\, Hof Sanitz 1\, Sanitz\, Mecklenburg Vorpommern\, 18190\, Germany
END:VEVENT
BEGIN:VEVENT
DTSTART;TZID=Europe/Berlin:20260504T144500
DTEND;TZID=Europe/Berlin:20260504T154500
DTSTAMP:20260425T032812
CREATED:20260424T103735Z
LAST-MODIFIED:20260424T103735Z
UID:27110-1777905900-1777909500@gemeindesanitz.de
SUMMARY:Seniorensport für Anfänger
DESCRIPTION:
URL:https://gemeindesanitz.de/event/seniorensport-fuer-anfaenger/2026-05-04/
LOCATION:Gemeinschaftshaus Sanitz\, Hof Sanitz 1\, Sanitz\, Mecklenburg Vorpommern\, 18190\, Germany
END:VEVENT
BEGIN:VEVENT
DTSTART;TZID=Europe/Berlin:20260511T144500
DTEND;TZID=Europe/Berlin:20260511T154500
DTSTAMP:20260425T032812
CREATED:20260424T103735Z
LAST-MODIFIED:20260424T103735Z
UID:27111-1778510700-1778514300@gemeindesanitz.de
SUMMARY:Seniorensport für Anfänger
DESCRIPTION:
URL:https://gemeindesanitz.de/event/seniorensport-fuer-anfaenger/2026-05-11/
LOCATION:Gemeinschaftshaus Sanitz\, Hof Sanitz 1\, Sanitz\, Mecklenburg Vorpommern\, 18190\, Germany
END:VEVENT
BEGIN:VEVENT
DTSTART;TZID=Europe/Berlin:20260518T144500
DTEND;TZID=Europe/Berlin:20260518T154500
DTSTAMP:20260425T032812
CREATED:20260424T103735Z
LAST-MODIFIED:20260424T103735Z
UID:27112-1779115500-1779119100@gemeindesanitz.de
SUMMARY:Seniorensport für Anfänger
DESCRIPTION:
URL:https://gemeindesanitz.de/event/seniorensport-fuer-anfaenger/2026-05-18/
LOCATION:Gemeinschaftshaus Sanitz\, Hof Sanitz 1\, Sanitz\, Mecklenburg Vorpommern\, 18190\, Germany
END:VEVENT
BEGIN:VEVENT
DTSTART;TZID=Europe/Berlin:20260525T144500
DTEND;TZID=Europe/Berlin:20260525T154500
DTSTAMP:20260425T032812
CREATED:20260424T103735Z
LAST-MODIFIED:20260424T103735Z
UID:27113-1779720300-1779723900@gemeindesanitz.de
SUMMARY:Seniorensport für Anfänger
DESCRIPTION:
URL:https://gemeindesanitz.de/event/seniorensport-fuer-anfaenger/2026-05-25/
LOCATION:Gemeinschaftshaus Sanitz\, Hof Sanitz 1\, Sanitz\, Mecklenburg Vorpommern\, 18190\, Germany
END:VEVENT
BEGIN:VEVENT
DTSTART;TZID=Europe/Berlin:20260601T144500
DTEND;TZID=Europe/Berlin:20260601T154500
DTSTAMP:20260425T032812
CREATED:20260424T103735Z
LAST-MODIFIED:20260424T103735Z
UID:27114-1780325100-1780328700@gemeindesanitz.de
SUMMARY:Seniorensport für Anfänger
DESCRIPTION:
URL:https://gemeindesanitz.de/event/seniorensport-fuer-anfaenger/2026-06-01/
LOCATION:Gemeinschaftshaus Sanitz\, Hof Sanitz 1\, Sanitz\, Mecklenburg Vorpommern\, 18190\, Germany
END:VEVENT
BEGIN:VEVENT
DTSTART;TZID=Europe/Berlin:20260608T144500
DTEND;TZID=Europe/Berlin:20260608T154500
DTSTAMP:20260425T032812
CREATED:20260424T103735Z
LAST-MODIFIED:20260424T103735Z
UID:27115-1780929900-1780933500@gemeindesanitz.de
SUMMARY:Seniorensport für Anfänger
DESCRIPTION:
URL:https://gemeindesanitz.de/event/seniorensport-fuer-anfaenger/2026-06-08/
LOCATION:Gemeinschaftshaus Sanitz\, Hof Sanitz 1\, Sanitz\, Mecklenburg Vorpommern\, 18190\, Germany
END:VEVENT
BEGIN:VEVENT
DTSTART;TZID=Europe/Berlin:20260615T144500
DTEND;TZID=Europe/Berlin:20260615T154500
DTSTAMP:20260425T032812
CREATED:20260424T103735Z
LAST-MODIFIED:20260424T103735Z
UID:27116-1781534700-1781538300@gemeindesanitz.de
SUMMARY:Seniorensport für Anfänger
DESCRIPTION:
URL:https://gemeindesanitz.de/event/seniorensport-fuer-anfaenger/2026-06-15/
LOCATION:Gemeinschaftshaus Sanitz\, Hof Sanitz 1\, Sanitz\, Mecklenburg Vorpommern\, 18190\, Germany
END:VEVENT
BEGIN:VEVENT
DTSTART;TZID=Europe/Berlin:20260622T144500
DTEND;TZID=Europe/Berlin:20260622T154500
DTSTAMP:20260425T032812
CREATED:20260424T103735Z
LAST-MODIFIED:20260424T103735Z
UID:27117-1782139500-1782143100@gemeindesanitz.de
SUMMARY:Seniorensport für Anfänger
DESCRIPTION:
URL:https://gemeindesanitz.de/event/seniorensport-fuer-anfaenger/2026-06-22/
LOCATION:Gemeinschaftshaus Sanitz\, Hof Sanitz 1\, Sanitz\, Mecklenburg Vorpommern\, 18190\, Germany
END:VEVENT
BEGIN:VEVENT
DTSTART;TZID=Europe/Berlin:20260629T144500
DTEND;TZID=Europe/Berlin:20260629T154500
DTSTAMP:20260425T032812
CREATED:20260424T103735Z
LAST-MODIFIED:20260424T103735Z
UID:27118-1782744300-1782747900@gemeindesanitz.de
SUMMARY:Seniorensport für Anfänger
DESCRIPTION:
URL:https://gemeindesanitz.de/event/seniorensport-fuer-anfaenger/2026-06-29/
LOCATION:Gemeinschaftshaus Sanitz\, Hof Sanitz 1\, Sanitz\, Mecklenburg Vorpommern\, 18190\, Germany
END:VEVENT
BEGIN:VEVENT
DTSTART;TZID=Europe/Berlin:20260706T144500
DTEND;TZID=Europe/Berlin:20260706T154500
DTSTAMP:20260425T032812
CREATED:20260424T103735Z
LAST-MODIFIED:20260424T103735Z
UID:27119-1783349100-1783352700@gemeindesanitz.de
SUMMARY:Seniorensport für Anfänger
DESCRIPTION:
URL:https://gemeindesanitz.de/event/seniorensport-fuer-anfaenger/2026-07-06/
LOCATION:Gemeinschaftshaus Sanitz\, Hof Sanitz 1\, Sanitz\, Mecklenburg Vorpommern\, 18190\, Germany
END:VEVENT
BEGIN:VEVENT
DTSTART;TZID=Europe/Berlin:20260713T144500
DTEND;TZID=Europe/Berlin:20260713T154500
DTSTAMP:20260425T032812
CREATED:20260424T103735Z
LAST-MODIFIED:20260424T103735Z
UID:27120-1783953900-1783957500@gemeindesanitz.de
SUMMARY:Seniorensport für Anfänger
DESCRIPTION:
URL:https://gemeindesanitz.de/event/seniorensport-fuer-anfaenger/2026-07-13/
LOCATION:Gemeinschaftshaus Sanitz\, Hof Sanitz 1\, Sanitz\, Mecklenburg Vorpommern\, 18190\, Germany
END:VEVENT
BEGIN:VEVENT
DTSTART;TZID=Europe/Berlin:20260720T144500
DTEND;TZID=Europe/Berlin:20260720T154500
DTSTAMP:20260425T032812
CREATED:20260424T103735Z
LAST-MODIFIED:20260424T103735Z
UID:27121-1784558700-1784562300@gemeindesanitz.de
SUMMARY:Seniorensport für Anfänger
DESCRIPTION:
URL:https://gemeindesanitz.de/event/seniorensport-fuer-anfaenger/2026-07-20/
LOCATION:Gemeinschaftshaus Sanitz\, Hof Sanitz 1\, Sanitz\, Mecklenburg Vorpommern\, 18190\, Germany
END:VEVENT
BEGIN:VEVENT
DTSTART;TZID=Europe/Berlin:20260727T144500
DTEND;TZID=Europe/Berlin:20260727T154500
DTSTAMP:20260425T032812
CREATED:20260424T103735Z
LAST-MODIFIED:20260424T103735Z
UID:27122-1785163500-1785167100@gemeindesanitz.de
SUMMARY:Seniorensport für Anfänger
DESCRIPTION:
URL:https://gemeindesanitz.de/event/seniorensport-fuer-anfaenger/2026-07-27/
LOCATION:Gemeinschaftshaus Sanitz\, Hof Sanitz 1\, Sanitz\, Mecklenburg Vorpommern\, 18190\, Germany
END:VEVENT
BEGIN:VEVENT
DTSTART;TZID=Europe/Berlin:20260803T144500
DTEND;TZID=Europe/Berlin:20260803T154500
DTSTAMP:20260425T032813
CREATED:20260424T103735Z
LAST-MODIFIED:20260424T103735Z
UID:27123-1785768300-1785771900@gemeindesanitz.de
SUMMARY:Seniorensport für Anfänger
DESCRIPTION:
URL:https://gemeindesanitz.de/event/seniorensport-fuer-anfaenger/2026-08-03/
LOCATION:Gemeinschaftshaus Sanitz\, Hof Sanitz 1\, Sanitz\, Mecklenburg Vorpommern\, 18190\, Germany
END:VEVENT
BEGIN:VEVENT
DTSTART;TZID=Europe/Berlin:20260810T144500
DTEND;TZID=Europe/Berlin:20260810T154500
DTSTAMP:20260425T032813
CREATED:20260424T103735Z
LAST-MODIFIED:20260424T103735Z
UID:27124-1786373100-1786376700@gemeindesanitz.de
SUMMARY:Seniorensport für Anfänger
DESCRIPTION:
URL:https://gemeindesanitz.de/event/seniorensport-fuer-anfaenger/2026-08-10/
LOCATION:Gemeinschaftshaus Sanitz\, Hof Sanitz 1\, Sanitz\, Mecklenburg Vorpommern\, 18190\, Germany
END:VEVENT
BEGIN:VEVENT
DTSTART;TZID=Europe/Berlin:20260817T144500
DTEND;TZID=Europe/Berlin:20260817T154500
DTSTAMP:20260425T032813
CREATED:20260424T103735Z
LAST-MODIFIED:20260424T103735Z
UID:27125-1786977900-1786981500@gemeindesanitz.de
SUMMARY:Seniorensport für Anfänger
DESCRIPTION:
URL:https://gemeindesanitz.de/event/seniorensport-fuer-anfaenger/2026-08-17/
LOCATION:Gemeinschaftshaus Sanitz\, Hof Sanitz 1\, Sanitz\, Mecklenburg Vorpommern\, 18190\, Germany
END:VEVENT
BEGIN:VEVENT
DTSTART;TZID=Europe/Berlin:20260824T144500
DTEND;TZID=Europe/Berlin:20260824T154500
DTSTAMP:20260425T032813
CREATED:20260424T103735Z
LAST-MODIFIED:20260424T103735Z
UID:27126-1787582700-1787586300@gemeindesanitz.de
SUMMARY:Seniorensport für Anfänger
DESCRIPTION:
URL:https://gemeindesanitz.de/event/seniorensport-fuer-anfaenger/2026-08-24/
LOCATION:Gemeinschaftshaus Sanitz\, Hof Sanitz 1\, Sanitz\, Mecklenburg Vorpommern\, 18190\, Germany
END:VEVENT
BEGIN:VEVENT
DTSTART;TZID=Europe/Berlin:20260831T144500
DTEND;TZID=Europe/Berlin:20260831T154500
DTSTAMP:20260425T032813
CREATED:20260424T103735Z
LAST-MODIFIED:20260424T103735Z
UID:27127-1788187500-1788191100@gemeindesanitz.de
SUMMARY:Seniorensport für Anfänger
DESCRIPTION:
URL:https://gemeindesanitz.de/event/seniorensport-fuer-anfaenger/2026-08-31/
LOCATION:Gemeinschaftshaus Sanitz\, Hof Sanitz 1\, Sanitz\, Mecklenburg Vorpommern\, 18190\, Germany
END:VEVENT
BEGIN:VEVENT
DTSTART;TZID=Europe/Berlin:20260907T144500
DTEND;TZID=Europe/Berlin:20260907T154500
DTSTAMP:20260425T032813
CREATED:20260424T103735Z
LAST-MODIFIED:20260424T103735Z
UID:27128-1788792300-1788795900@gemeindesanitz.de
SUMMARY:Seniorensport für Anfänger
DESCRIPTION:
URL:https://gemeindesanitz.de/event/seniorensport-fuer-anfaenger/2026-09-07/
LOCATION:Gemeinschaftshaus Sanitz\, Hof Sanitz 1\, Sanitz\, Mecklenburg Vorpommern\, 18190\, Germany
END:VEVENT
BEGIN:VEVENT
DTSTART;TZID=Europe/Berlin:20260914T144500
DTEND;TZID=Europe/Berlin:20260914T154500
DTSTAMP:20260425T032813
CREATED:20260424T103735Z
LAST-MODIFIED:20260424T103735Z
UID:27129-1789397100-1789400700@gemeindesanitz.de
SUMMARY:Seniorensport für Anfänger
DESCRIPTION:
URL:https://gemeindesanitz.de/event/seniorensport-fuer-anfaenger/2026-09-14/
LOCATION:Gemeinschaftshaus Sanitz\, Hof Sanitz 1\, Sanitz\, Mecklenburg Vorpommern\, 18190\, Germany
END:VEVENT
BEGIN:VEVENT
DTSTART;TZID=Europe/Berlin:20260921T144500
DTEND;TZID=Europe/Berlin:20260921T154500
DTSTAMP:20260425T032813
CREATED:20260424T103735Z
LAST-MODIFIED:20260424T103735Z
UID:27130-1790001900-1790005500@gemeindesanitz.de
SUMMARY:Seniorensport für Anfänger
DESCRIPTION:
URL:https://gemeindesanitz.de/event/seniorensport-fuer-anfaenger/2026-09-21/
LOCATION:Gemeinschaftshaus Sanitz\, Hof Sanitz 1\, Sanitz\, Mecklenburg Vorpommern\, 18190\, Germany
END:VEVENT
BEGIN:VEVENT
DTSTART;TZID=Europe/Berlin:20260928T144500
DTEND;TZID=Europe/Berlin:20260928T154500
DTSTAMP:20260425T032813
CREATED:20260424T103735Z
LAST-MODIFIED:20260424T103735Z
UID:27131-1790606700-1790610300@gemeindesanitz.de
SUMMARY:Seniorensport für Anfänger
DESCRIPTION:
URL:https://gemeindesanitz.de/event/seniorensport-fuer-anfaenger/2026-09-28/
LOCATION:Gemeinschaftshaus Sanitz\, Hof Sanitz 1\, Sanitz\, Mecklenburg Vorpommern\, 18190\, Germany
END:VEVENT
BEGIN:VEVENT
DTSTART;TZID=Europe/Berlin:20261005T144500
DTEND;TZID=Europe/Berlin:20261005T154500
DTSTAMP:20260425T032813
CREATED:20260424T103735Z
LAST-MODIFIED:20260424T103735Z
UID:27132-1791211500-1791215100@gemeindesanitz.de
SUMMARY:Seniorensport für Anfänger
DESCRIPTION:
URL:https://gemeindesanitz.de/event/seniorensport-fuer-anfaenger/2026-10-05/
LOCATION:Gemeinschaftshaus Sanitz\, Hof Sanitz 1\, Sanitz\, Mecklenburg Vorpommern\, 18190\, Germany
END:VEVENT
BEGIN:VEVENT
DTSTART;TZID=Europe/Berlin:20261012T144500
DTEND;TZID=Europe/Berlin:20261012T154500
DTSTAMP:20260425T032813
CREATED:20260424T103735Z
LAST-MODIFIED:20260424T103735Z
UID:27133-1791816300-1791819900@gemeindesanitz.de
SUMMARY:Seniorensport für Anfänger
DESCRIPTION:
URL:https://gemeindesanitz.de/event/seniorensport-fuer-anfaenger/2026-10-12/
LOCATION:Gemeinschaftshaus Sanitz\, Hof Sanitz 1\, Sanitz\, Mecklenburg Vorpommern\, 18190\, Germany
END:VEVENT
BEGIN:VEVENT
DTSTART;TZID=Europe/Berlin:20261019T144500
DTEND;TZID=Europe/Berlin:20261019T154500
DTSTAMP:20260425T032813
CREATED:20260424T103735Z
LAST-MODIFIED:20260424T103735Z
UID:27134-1792421100-1792424700@gemeindesanitz.de
SUMMARY:Seniorensport für Anfänger
DESCRIPTION:
URL:https://gemeindesanitz.de/event/seniorensport-fuer-anfaenger/2026-10-19/
LOCATION:Gemeinschaftshaus Sanitz\, Hof Sanitz 1\, Sanitz\, Mecklenburg Vorpommern\, 18190\, Germany
END:VEVENT
BEGIN:VEVENT
DTSTART;TZID=Europe/Berlin:20261026T144500
DTEND;TZID=Europe/Berlin:20261026T154500
DTSTAMP:20260425T032813
CREATED:20260424T103735Z
LAST-MODIFIED:20260424T103735Z
UID:27135-1793025900-1793029500@gemeindesanitz.de
SUMMARY:Seniorensport für Anfänger
DESCRIPTION:
URL:https://gemeindesanitz.de/event/seniorensport-fuer-anfaenger/2026-10-26/
LOCATION:Gemeinschaftshaus Sanitz\, Hof Sanitz 1\, Sanitz\, Mecklenburg Vorpommern\, 18190\, Germany
END:VEVENT
BEGIN:VEVENT
DTSTART;TZID=Europe/Berlin:20261102T144500
DTEND;TZID=Europe/Berlin:20261102T154500
DTSTAMP:20260425T032813
CREATED:20260424T103735Z
LAST-MODIFIED:20260424T103735Z
UID:27136-1793630700-1793634300@gemeindesanitz.de
SUMMARY:Seniorensport für Anfänger
DESCRIPTION:
URL:https://gemeindesanitz.de/event/seniorensport-fuer-anfaenger/2026-11-02/
LOCATION:Gemeinschaftshaus Sanitz\, Hof Sanitz 1\, Sanitz\, Mecklenburg Vorpommern\, 18190\, Germany
END:VEVENT
BEGIN:VEVENT
DTSTART;TZID=Europe/Berlin:20261109T144500
DTEND;TZID=Europe/Berlin:20261109T154500
DTSTAMP:20260425T032813
CREATED:20260424T103735Z
LAST-MODIFIED:20260424T103735Z
UID:27137-1794235500-1794239100@gemeindesanitz.de
SUMMARY:Seniorensport für Anfänger
DESCRIPTION:
URL:https://gemeindesanitz.de/event/seniorensport-fuer-anfaenger/2026-11-09/
LOCATION:Gemeinschaftshaus Sanitz\, Hof Sanitz 1\, Sanitz\, Mecklenburg Vorpommern\, 18190\, Germany
END:VEVENT
BEGIN:VEVENT
DTSTART;TZID=Europe/Berlin:20261116T144500
DTEND;TZID=Europe/Berlin:20261116T154500
DTSTAMP:20260425T032813
CREATED:20260424T103735Z
LAST-MODIFIED:20260424T103735Z
UID:27138-1794840300-1794843900@gemeindesanitz.de
SUMMARY:Seniorensport für Anfänger
DESCRIPTION:
URL:https://gemeindesanitz.de/event/seniorensport-fuer-anfaenger/2026-11-16/
LOCATION:Gemeinschaftshaus Sanitz\, Hof Sanitz 1\, Sanitz\, Mecklenburg Vorpommern\, 18190\, Germany
END:VEVENT
END:VCALENDAR