BEGIN:VCALENDAR
VERSION:2.0
PRODID:-//gemeindesanitz.de - ECPv5.12.4//NONSGML v1.0//EN
CALSCALE:GREGORIAN
METHOD:PUBLISH
X-WR-CALNAME:gemeindesanitz.de
X-ORIGINAL-URL:https://gemeindesanitz.de
X-WR-CALDESC:Events for gemeindesanitz.de
REFRESH-INTERVAL;VALUE=DURATION:PT1H
X-Robots-Tag:noindex
X-PUBLISHED-TTL:PT1H
BEGIN:VTIMEZONE
TZID:Europe/Berlin
BEGIN:DAYLIGHT
TZOFFSETFROM:+0100
TZOFFSETTO:+0200
TZNAME:CEST
DTSTART:20260329T010000
END:DAYLIGHT
BEGIN:STANDARD
TZOFFSETFROM:+0200
TZOFFSETTO:+0100
TZNAME:CET
DTSTART:20261025T010000
END:STANDARD
END:VTIMEZONE
BEGIN:VEVENT
DTSTART;TZID=Europe/Berlin:20260616T140000
DTEND;TZID=Europe/Berlin:20260616T160000
DTSTAMP:20260425T014843
CREATED:20260424T104133Z
LAST-MODIFIED:20260424T104133Z
UID:27276-1781618400-1781625600@gemeindesanitz.de
SUMMARY:Spiele- und Kreativnachmittag
DESCRIPTION:
URL:https://gemeindesanitz.de/event/spiele-und-kreativnachmittag/2026-06-16/
LOCATION:Gemeinschaftshaus Sanitz\, Hof Sanitz 1\, Sanitz\, Mecklenburg Vorpommern\, 18190\, Germany
END:VEVENT
BEGIN:VEVENT
DTSTART;TZID=Europe/Berlin:20260623T140000
DTEND;TZID=Europe/Berlin:20260623T160000
DTSTAMP:20260425T014843
CREATED:20260424T104133Z
LAST-MODIFIED:20260424T104133Z
UID:27277-1782223200-1782230400@gemeindesanitz.de
SUMMARY:Spiele- und Kreativnachmittag
DESCRIPTION:
URL:https://gemeindesanitz.de/event/spiele-und-kreativnachmittag/2026-06-23/
LOCATION:Gemeinschaftshaus Sanitz\, Hof Sanitz 1\, Sanitz\, Mecklenburg Vorpommern\, 18190\, Germany
END:VEVENT
BEGIN:VEVENT
DTSTART;TZID=Europe/Berlin:20260630T140000
DTEND;TZID=Europe/Berlin:20260630T160000
DTSTAMP:20260425T014843
CREATED:20260424T104133Z
LAST-MODIFIED:20260424T104133Z
UID:27278-1782828000-1782835200@gemeindesanitz.de
SUMMARY:Spiele- und Kreativnachmittag
DESCRIPTION:
URL:https://gemeindesanitz.de/event/spiele-und-kreativnachmittag/2026-06-30/
LOCATION:Gemeinschaftshaus Sanitz\, Hof Sanitz 1\, Sanitz\, Mecklenburg Vorpommern\, 18190\, Germany
END:VEVENT
BEGIN:VEVENT
DTSTART;TZID=Europe/Berlin:20260707T140000
DTEND;TZID=Europe/Berlin:20260707T160000
DTSTAMP:20260425T014843
CREATED:20260424T104133Z
LAST-MODIFIED:20260424T104133Z
UID:27279-1783432800-1783440000@gemeindesanitz.de
SUMMARY:Spiele- und Kreativnachmittag
DESCRIPTION:
URL:https://gemeindesanitz.de/event/spiele-und-kreativnachmittag/2026-07-07/
LOCATION:Gemeinschaftshaus Sanitz\, Hof Sanitz 1\, Sanitz\, Mecklenburg Vorpommern\, 18190\, Germany
END:VEVENT
BEGIN:VEVENT
DTSTART;TZID=Europe/Berlin:20260714T140000
DTEND;TZID=Europe/Berlin:20260714T160000
DTSTAMP:20260425T014843
CREATED:20260424T104133Z
LAST-MODIFIED:20260424T104133Z
UID:27280-1784037600-1784044800@gemeindesanitz.de
SUMMARY:Spiele- und Kreativnachmittag
DESCRIPTION:
URL:https://gemeindesanitz.de/event/spiele-und-kreativnachmittag/2026-07-14/
LOCATION:Gemeinschaftshaus Sanitz\, Hof Sanitz 1\, Sanitz\, Mecklenburg Vorpommern\, 18190\, Germany
END:VEVENT
BEGIN:VEVENT
DTSTART;TZID=Europe/Berlin:20260721T140000
DTEND;TZID=Europe/Berlin:20260721T160000
DTSTAMP:20260425T014843
CREATED:20260424T104133Z
LAST-MODIFIED:20260424T104133Z
UID:27281-1784642400-1784649600@gemeindesanitz.de
SUMMARY:Spiele- und Kreativnachmittag
DESCRIPTION:
URL:https://gemeindesanitz.de/event/spiele-und-kreativnachmittag/2026-07-21/
LOCATION:Gemeinschaftshaus Sanitz\, Hof Sanitz 1\, Sanitz\, Mecklenburg Vorpommern\, 18190\, Germany
END:VEVENT
BEGIN:VEVENT
DTSTART;TZID=Europe/Berlin:20260728T140000
DTEND;TZID=Europe/Berlin:20260728T160000
DTSTAMP:20260425T014843
CREATED:20260424T104133Z
LAST-MODIFIED:20260424T104133Z
UID:27282-1785247200-1785254400@gemeindesanitz.de
SUMMARY:Spiele- und Kreativnachmittag
DESCRIPTION:
URL:https://gemeindesanitz.de/event/spiele-und-kreativnachmittag/2026-07-28/
LOCATION:Gemeinschaftshaus Sanitz\, Hof Sanitz 1\, Sanitz\, Mecklenburg Vorpommern\, 18190\, Germany
END:VEVENT
BEGIN:VEVENT
DTSTART;TZID=Europe/Berlin:20260804T140000
DTEND;TZID=Europe/Berlin:20260804T160000
DTSTAMP:20260425T014843
CREATED:20260424T104133Z
LAST-MODIFIED:20260424T104133Z
UID:27283-1785852000-1785859200@gemeindesanitz.de
SUMMARY:Spiele- und Kreativnachmittag
DESCRIPTION:
URL:https://gemeindesanitz.de/event/spiele-und-kreativnachmittag/2026-08-04/
LOCATION:Gemeinschaftshaus Sanitz\, Hof Sanitz 1\, Sanitz\, Mecklenburg Vorpommern\, 18190\, Germany
END:VEVENT
BEGIN:VEVENT
DTSTART;TZID=Europe/Berlin:20260811T140000
DTEND;TZID=Europe/Berlin:20260811T160000
DTSTAMP:20260425T014843
CREATED:20260424T104133Z
LAST-MODIFIED:20260424T104133Z
UID:27284-1786456800-1786464000@gemeindesanitz.de
SUMMARY:Spiele- und Kreativnachmittag
DESCRIPTION:
URL:https://gemeindesanitz.de/event/spiele-und-kreativnachmittag/2026-08-11/
LOCATION:Gemeinschaftshaus Sanitz\, Hof Sanitz 1\, Sanitz\, Mecklenburg Vorpommern\, 18190\, Germany
END:VEVENT
BEGIN:VEVENT
DTSTART;TZID=Europe/Berlin:20260818T140000
DTEND;TZID=Europe/Berlin:20260818T160000
DTSTAMP:20260425T014843
CREATED:20260424T104133Z
LAST-MODIFIED:20260424T104133Z
UID:27285-1787061600-1787068800@gemeindesanitz.de
SUMMARY:Spiele- und Kreativnachmittag
DESCRIPTION:
URL:https://gemeindesanitz.de/event/spiele-und-kreativnachmittag/2026-08-18/
LOCATION:Gemeinschaftshaus Sanitz\, Hof Sanitz 1\, Sanitz\, Mecklenburg Vorpommern\, 18190\, Germany
END:VEVENT
BEGIN:VEVENT
DTSTART;TZID=Europe/Berlin:20260825T140000
DTEND;TZID=Europe/Berlin:20260825T160000
DTSTAMP:20260425T014843
CREATED:20260424T104133Z
LAST-MODIFIED:20260424T104133Z
UID:27286-1787666400-1787673600@gemeindesanitz.de
SUMMARY:Spiele- und Kreativnachmittag
DESCRIPTION:
URL:https://gemeindesanitz.de/event/spiele-und-kreativnachmittag/2026-08-25/
LOCATION:Gemeinschaftshaus Sanitz\, Hof Sanitz 1\, Sanitz\, Mecklenburg Vorpommern\, 18190\, Germany
END:VEVENT
BEGIN:VEVENT
DTSTART;TZID=Europe/Berlin:20260901T140000
DTEND;TZID=Europe/Berlin:20260901T160000
DTSTAMP:20260425T014843
CREATED:20260424T104133Z
LAST-MODIFIED:20260424T104133Z
UID:27287-1788271200-1788278400@gemeindesanitz.de
SUMMARY:Spiele- und Kreativnachmittag
DESCRIPTION:
URL:https://gemeindesanitz.de/event/spiele-und-kreativnachmittag/2026-09-01/
LOCATION:Gemeinschaftshaus Sanitz\, Hof Sanitz 1\, Sanitz\, Mecklenburg Vorpommern\, 18190\, Germany
END:VEVENT
BEGIN:VEVENT
DTSTART;TZID=Europe/Berlin:20260908T140000
DTEND;TZID=Europe/Berlin:20260908T160000
DTSTAMP:20260425T014843
CREATED:20260424T104133Z
LAST-MODIFIED:20260424T104133Z
UID:27288-1788876000-1788883200@gemeindesanitz.de
SUMMARY:Spiele- und Kreativnachmittag
DESCRIPTION:
URL:https://gemeindesanitz.de/event/spiele-und-kreativnachmittag/2026-09-08/
LOCATION:Gemeinschaftshaus Sanitz\, Hof Sanitz 1\, Sanitz\, Mecklenburg Vorpommern\, 18190\, Germany
END:VEVENT
BEGIN:VEVENT
DTSTART;TZID=Europe/Berlin:20260915T140000
DTEND;TZID=Europe/Berlin:20260915T160000
DTSTAMP:20260425T014843
CREATED:20260424T104133Z
LAST-MODIFIED:20260424T104133Z
UID:27289-1789480800-1789488000@gemeindesanitz.de
SUMMARY:Spiele- und Kreativnachmittag
DESCRIPTION:
URL:https://gemeindesanitz.de/event/spiele-und-kreativnachmittag/2026-09-15/
LOCATION:Gemeinschaftshaus Sanitz\, Hof Sanitz 1\, Sanitz\, Mecklenburg Vorpommern\, 18190\, Germany
END:VEVENT
BEGIN:VEVENT
DTSTART;TZID=Europe/Berlin:20260922T140000
DTEND;TZID=Europe/Berlin:20260922T160000
DTSTAMP:20260425T014843
CREATED:20260424T104133Z
LAST-MODIFIED:20260424T104133Z
UID:27290-1790085600-1790092800@gemeindesanitz.de
SUMMARY:Spiele- und Kreativnachmittag
DESCRIPTION:
URL:https://gemeindesanitz.de/event/spiele-und-kreativnachmittag/2026-09-22/
LOCATION:Gemeinschaftshaus Sanitz\, Hof Sanitz 1\, Sanitz\, Mecklenburg Vorpommern\, 18190\, Germany
END:VEVENT
BEGIN:VEVENT
DTSTART;TZID=Europe/Berlin:20260929T140000
DTEND;TZID=Europe/Berlin:20260929T160000
DTSTAMP:20260425T014843
CREATED:20260424T104133Z
LAST-MODIFIED:20260424T104133Z
UID:27291-1790690400-1790697600@gemeindesanitz.de
SUMMARY:Spiele- und Kreativnachmittag
DESCRIPTION:
URL:https://gemeindesanitz.de/event/spiele-und-kreativnachmittag/2026-09-29/
LOCATION:Gemeinschaftshaus Sanitz\, Hof Sanitz 1\, Sanitz\, Mecklenburg Vorpommern\, 18190\, Germany
END:VEVENT
BEGIN:VEVENT
DTSTART;TZID=Europe/Berlin:20261006T140000
DTEND;TZID=Europe/Berlin:20261006T160000
DTSTAMP:20260425T014843
CREATED:20260424T104133Z
LAST-MODIFIED:20260424T104133Z
UID:27292-1791295200-1791302400@gemeindesanitz.de
SUMMARY:Spiele- und Kreativnachmittag
DESCRIPTION:
URL:https://gemeindesanitz.de/event/spiele-und-kreativnachmittag/2026-10-06/
LOCATION:Gemeinschaftshaus Sanitz\, Hof Sanitz 1\, Sanitz\, Mecklenburg Vorpommern\, 18190\, Germany
END:VEVENT
BEGIN:VEVENT
DTSTART;TZID=Europe/Berlin:20261013T140000
DTEND;TZID=Europe/Berlin:20261013T160000
DTSTAMP:20260425T014843
CREATED:20260424T104133Z
LAST-MODIFIED:20260424T104133Z
UID:27293-1791900000-1791907200@gemeindesanitz.de
SUMMARY:Spiele- und Kreativnachmittag
DESCRIPTION:
URL:https://gemeindesanitz.de/event/spiele-und-kreativnachmittag/2026-10-13/
LOCATION:Gemeinschaftshaus Sanitz\, Hof Sanitz 1\, Sanitz\, Mecklenburg Vorpommern\, 18190\, Germany
END:VEVENT
BEGIN:VEVENT
DTSTART;TZID=Europe/Berlin:20261020T140000
DTEND;TZID=Europe/Berlin:20261020T160000
DTSTAMP:20260425T014843
CREATED:20260424T104133Z
LAST-MODIFIED:20260424T104133Z
UID:27294-1792504800-1792512000@gemeindesanitz.de
SUMMARY:Spiele- und Kreativnachmittag
DESCRIPTION:
URL:https://gemeindesanitz.de/event/spiele-und-kreativnachmittag/2026-10-20/
LOCATION:Gemeinschaftshaus Sanitz\, Hof Sanitz 1\, Sanitz\, Mecklenburg Vorpommern\, 18190\, Germany
END:VEVENT
BEGIN:VEVENT
DTSTART;TZID=Europe/Berlin:20261027T140000
DTEND;TZID=Europe/Berlin:20261027T160000
DTSTAMP:20260425T014843
CREATED:20260424T104133Z
LAST-MODIFIED:20260424T104133Z
UID:27295-1793109600-1793116800@gemeindesanitz.de
SUMMARY:Spiele- und Kreativnachmittag
DESCRIPTION:
URL:https://gemeindesanitz.de/event/spiele-und-kreativnachmittag/2026-10-27/
LOCATION:Gemeinschaftshaus Sanitz\, Hof Sanitz 1\, Sanitz\, Mecklenburg Vorpommern\, 18190\, Germany
END:VEVENT
BEGIN:VEVENT
DTSTART;TZID=Europe/Berlin:20261103T140000
DTEND;TZID=Europe/Berlin:20261103T160000
DTSTAMP:20260425T014843
CREATED:20260424T104133Z
LAST-MODIFIED:20260424T104133Z
UID:27296-1793714400-1793721600@gemeindesanitz.de
SUMMARY:Spiele- und Kreativnachmittag
DESCRIPTION:
URL:https://gemeindesanitz.de/event/spiele-und-kreativnachmittag/2026-11-03/
LOCATION:Gemeinschaftshaus Sanitz\, Hof Sanitz 1\, Sanitz\, Mecklenburg Vorpommern\, 18190\, Germany
END:VEVENT
BEGIN:VEVENT
DTSTART;TZID=Europe/Berlin:20261110T140000
DTEND;TZID=Europe/Berlin:20261110T160000
DTSTAMP:20260425T014843
CREATED:20260424T104133Z
LAST-MODIFIED:20260424T104133Z
UID:27297-1794319200-1794326400@gemeindesanitz.de
SUMMARY:Spiele- und Kreativnachmittag
DESCRIPTION:
URL:https://gemeindesanitz.de/event/spiele-und-kreativnachmittag/2026-11-10/
LOCATION:Gemeinschaftshaus Sanitz\, Hof Sanitz 1\, Sanitz\, Mecklenburg Vorpommern\, 18190\, Germany
END:VEVENT
BEGIN:VEVENT
DTSTART;TZID=Europe/Berlin:20261117T140000
DTEND;TZID=Europe/Berlin:20261117T160000
DTSTAMP:20260425T014843
CREATED:20260424T104133Z
LAST-MODIFIED:20260424T104133Z
UID:27298-1794924000-1794931200@gemeindesanitz.de
SUMMARY:Spiele- und Kreativnachmittag
DESCRIPTION:
URL:https://gemeindesanitz.de/event/spiele-und-kreativnachmittag/2026-11-17/
LOCATION:Gemeinschaftshaus Sanitz\, Hof Sanitz 1\, Sanitz\, Mecklenburg Vorpommern\, 18190\, Germany
END:VEVENT
BEGIN:VEVENT
DTSTART;TZID=Europe/Berlin:20261124T140000
DTEND;TZID=Europe/Berlin:20261124T160000
DTSTAMP:20260425T014843
CREATED:20260424T104133Z
LAST-MODIFIED:20260424T104133Z
UID:27299-1795528800-1795536000@gemeindesanitz.de
SUMMARY:Spiele- und Kreativnachmittag
DESCRIPTION:
URL:https://gemeindesanitz.de/event/spiele-und-kreativnachmittag/2026-11-24/
LOCATION:Gemeinschaftshaus Sanitz\, Hof Sanitz 1\, Sanitz\, Mecklenburg Vorpommern\, 18190\, Germany
END:VEVENT
BEGIN:VEVENT
DTSTART;TZID=Europe/Berlin:20261201T140000
DTEND;TZID=Europe/Berlin:20261201T160000
DTSTAMP:20260425T014843
CREATED:20260424T104133Z
LAST-MODIFIED:20260424T104133Z
UID:27300-1796133600-1796140800@gemeindesanitz.de
SUMMARY:Spiele- und Kreativnachmittag
DESCRIPTION:
URL:https://gemeindesanitz.de/event/spiele-und-kreativnachmittag/2026-12-01/
LOCATION:Gemeinschaftshaus Sanitz\, Hof Sanitz 1\, Sanitz\, Mecklenburg Vorpommern\, 18190\, Germany
END:VEVENT
BEGIN:VEVENT
DTSTART;TZID=Europe/Berlin:20261208T140000
DTEND;TZID=Europe/Berlin:20261208T160000
DTSTAMP:20260425T014843
CREATED:20260424T104133Z
LAST-MODIFIED:20260424T104133Z
UID:27301-1796738400-1796745600@gemeindesanitz.de
SUMMARY:Spiele- und Kreativnachmittag
DESCRIPTION:
URL:https://gemeindesanitz.de/event/spiele-und-kreativnachmittag/2026-12-08/
LOCATION:Gemeinschaftshaus Sanitz\, Hof Sanitz 1\, Sanitz\, Mecklenburg Vorpommern\, 18190\, Germany
END:VEVENT
BEGIN:VEVENT
DTSTART;TZID=Europe/Berlin:20261215T140000
DTEND;TZID=Europe/Berlin:20261215T160000
DTSTAMP:20260425T014843
CREATED:20260424T104133Z
LAST-MODIFIED:20260424T104133Z
UID:27302-1797343200-1797350400@gemeindesanitz.de
SUMMARY:Spiele- und Kreativnachmittag
DESCRIPTION:
URL:https://gemeindesanitz.de/event/spiele-und-kreativnachmittag/2026-12-15/
LOCATION:Gemeinschaftshaus Sanitz\, Hof Sanitz 1\, Sanitz\, Mecklenburg Vorpommern\, 18190\, Germany
END:VEVENT
BEGIN:VEVENT
DTSTART;TZID=Europe/Berlin:20261222T140000
DTEND;TZID=Europe/Berlin:20261222T160000
DTSTAMP:20260425T014843
CREATED:20260424T104133Z
LAST-MODIFIED:20260424T104133Z
UID:27303-1797948000-1797955200@gemeindesanitz.de
SUMMARY:Spiele- und Kreativnachmittag
DESCRIPTION:
URL:https://gemeindesanitz.de/event/spiele-und-kreativnachmittag/2026-12-22/
LOCATION:Gemeinschaftshaus Sanitz\, Hof Sanitz 1\, Sanitz\, Mecklenburg Vorpommern\, 18190\, Germany
END:VEVENT
BEGIN:VEVENT
DTSTART;TZID=Europe/Berlin:20261229T140000
DTEND;TZID=Europe/Berlin:20261229T160000
DTSTAMP:20260425T014843
CREATED:20260424T104133Z
LAST-MODIFIED:20260424T104133Z
UID:27304-1798552800-1798560000@gemeindesanitz.de
SUMMARY:Spiele- und Kreativnachmittag
DESCRIPTION:
URL:https://gemeindesanitz.de/event/spiele-und-kreativnachmittag/2026-12-29/
LOCATION:Gemeinschaftshaus Sanitz\, Hof Sanitz 1\, Sanitz\, Mecklenburg Vorpommern\, 18190\, Germany
END:VEVENT
END:VCALENDAR