BEGIN:VCALENDAR
VERSION:2.0
PRODID:-//gemeindesanitz.de - ECPv5.12.4//NONSGML v1.0//EN
CALSCALE:GREGORIAN
METHOD:PUBLISH
X-WR-CALNAME:gemeindesanitz.de
X-ORIGINAL-URL:https://gemeindesanitz.de
X-WR-CALDESC:Events for gemeindesanitz.de
REFRESH-INTERVAL;VALUE=DURATION:PT1H
X-Robots-Tag:noindex
X-PUBLISHED-TTL:PT1H
BEGIN:VTIMEZONE
TZID:Europe/Berlin
BEGIN:DAYLIGHT
TZOFFSETFROM:+0100
TZOFFSETTO:+0200
TZNAME:CEST
DTSTART:20260329T010000
END:DAYLIGHT
BEGIN:STANDARD
TZOFFSETFROM:+0200
TZOFFSETTO:+0100
TZNAME:CET
DTSTART:20261025T010000
END:STANDARD
END:VTIMEZONE
BEGIN:VEVENT
DTSTART;TZID=Europe/Berlin:20260427T133000
DTEND;TZID=Europe/Berlin:20260427T143000
DTSTAMP:20260425T014428
CREATED:20260424T103847Z
LAST-MODIFIED:20260424T103847Z
UID:27162-1777296600-1777300200@gemeindesanitz.de
SUMMARY:Seniorensport für Fortgeschrittene
DESCRIPTION:
URL:https://gemeindesanitz.de/event/seniorensport-fuer-fortgeschrittene/2026-04-27/
LOCATION:Gemeinschaftshaus Sanitz\, Hof Sanitz 1\, Sanitz\, Mecklenburg Vorpommern\, 18190\, Germany
END:VEVENT
BEGIN:VEVENT
DTSTART;TZID=Europe/Berlin:20260427T144500
DTEND;TZID=Europe/Berlin:20260427T154500
DTSTAMP:20260425T014428
CREATED:20260424T103735Z
LAST-MODIFIED:20260424T103735Z
UID:27109-1777301100-1777304700@gemeindesanitz.de
SUMMARY:Seniorensport für Anfänger
DESCRIPTION:
URL:https://gemeindesanitz.de/event/seniorensport-fuer-anfaenger/2026-04-27/
LOCATION:Gemeinschaftshaus Sanitz\, Hof Sanitz 1\, Sanitz\, Mecklenburg Vorpommern\, 18190\, Germany
END:VEVENT
BEGIN:VEVENT
DTSTART;TZID=Europe/Berlin:20260427T160000
DTEND;TZID=Europe/Berlin:20260427T170000
DTSTAMP:20260425T014428
CREATED:20260424T103958Z
LAST-MODIFIED:20260424T103958Z
UID:27215-1777305600-1777309200@gemeindesanitz.de
SUMMARY:Rückenfit für Männer - Seniorensport
DESCRIPTION:
URL:https://gemeindesanitz.de/event/rueckenfit-fuer-maenner-seniorensport/2026-04-27/
LOCATION:Gemeinschaftshaus Sanitz\, Hof Sanitz 1\, Sanitz\, Mecklenburg Vorpommern\, 18190\, Germany
END:VEVENT
BEGIN:VEVENT
DTSTART;TZID=Europe/Berlin:20260504T133000
DTEND;TZID=Europe/Berlin:20260504T143000
DTSTAMP:20260425T014428
CREATED:20260424T103847Z
LAST-MODIFIED:20260424T103847Z
UID:27163-1777901400-1777905000@gemeindesanitz.de
SUMMARY:Seniorensport für Fortgeschrittene
DESCRIPTION:
URL:https://gemeindesanitz.de/event/seniorensport-fuer-fortgeschrittene/2026-05-04/
LOCATION:Gemeinschaftshaus Sanitz\, Hof Sanitz 1\, Sanitz\, Mecklenburg Vorpommern\, 18190\, Germany
END:VEVENT
BEGIN:VEVENT
DTSTART;TZID=Europe/Berlin:20260504T144500
DTEND;TZID=Europe/Berlin:20260504T154500
DTSTAMP:20260425T014428
CREATED:20260424T103735Z
LAST-MODIFIED:20260424T103735Z
UID:27110-1777905900-1777909500@gemeindesanitz.de
SUMMARY:Seniorensport für Anfänger
DESCRIPTION:
URL:https://gemeindesanitz.de/event/seniorensport-fuer-anfaenger/2026-05-04/
LOCATION:Gemeinschaftshaus Sanitz\, Hof Sanitz 1\, Sanitz\, Mecklenburg Vorpommern\, 18190\, Germany
END:VEVENT
BEGIN:VEVENT
DTSTART;TZID=Europe/Berlin:20260504T160000
DTEND;TZID=Europe/Berlin:20260504T170000
DTSTAMP:20260425T014428
CREATED:20260424T103958Z
LAST-MODIFIED:20260424T103958Z
UID:27216-1777910400-1777914000@gemeindesanitz.de
SUMMARY:Rückenfit für Männer - Seniorensport
DESCRIPTION:
URL:https://gemeindesanitz.de/event/rueckenfit-fuer-maenner-seniorensport/2026-05-04/
LOCATION:Gemeinschaftshaus Sanitz\, Hof Sanitz 1\, Sanitz\, Mecklenburg Vorpommern\, 18190\, Germany
END:VEVENT
BEGIN:VEVENT
DTSTART;TZID=Europe/Berlin:20260511T133000
DTEND;TZID=Europe/Berlin:20260511T143000
DTSTAMP:20260425T014428
CREATED:20260424T103847Z
LAST-MODIFIED:20260424T103847Z
UID:27164-1778506200-1778509800@gemeindesanitz.de
SUMMARY:Seniorensport für Fortgeschrittene
DESCRIPTION:
URL:https://gemeindesanitz.de/event/seniorensport-fuer-fortgeschrittene/2026-05-11/
LOCATION:Gemeinschaftshaus Sanitz\, Hof Sanitz 1\, Sanitz\, Mecklenburg Vorpommern\, 18190\, Germany
END:VEVENT
BEGIN:VEVENT
DTSTART;TZID=Europe/Berlin:20260511T144500
DTEND;TZID=Europe/Berlin:20260511T154500
DTSTAMP:20260425T014428
CREATED:20260424T103735Z
LAST-MODIFIED:20260424T103735Z
UID:27111-1778510700-1778514300@gemeindesanitz.de
SUMMARY:Seniorensport für Anfänger
DESCRIPTION:
URL:https://gemeindesanitz.de/event/seniorensport-fuer-anfaenger/2026-05-11/
LOCATION:Gemeinschaftshaus Sanitz\, Hof Sanitz 1\, Sanitz\, Mecklenburg Vorpommern\, 18190\, Germany
END:VEVENT
BEGIN:VEVENT
DTSTART;TZID=Europe/Berlin:20260511T160000
DTEND;TZID=Europe/Berlin:20260511T170000
DTSTAMP:20260425T014428
CREATED:20260424T103958Z
LAST-MODIFIED:20260424T103958Z
UID:27217-1778515200-1778518800@gemeindesanitz.de
SUMMARY:Rückenfit für Männer - Seniorensport
DESCRIPTION:
URL:https://gemeindesanitz.de/event/rueckenfit-fuer-maenner-seniorensport/2026-05-11/
LOCATION:Gemeinschaftshaus Sanitz\, Hof Sanitz 1\, Sanitz\, Mecklenburg Vorpommern\, 18190\, Germany
END:VEVENT
BEGIN:VEVENT
DTSTART;TZID=Europe/Berlin:20260518T133000
DTEND;TZID=Europe/Berlin:20260518T143000
DTSTAMP:20260425T014428
CREATED:20260424T103847Z
LAST-MODIFIED:20260424T103847Z
UID:27165-1779111000-1779114600@gemeindesanitz.de
SUMMARY:Seniorensport für Fortgeschrittene
DESCRIPTION:
URL:https://gemeindesanitz.de/event/seniorensport-fuer-fortgeschrittene/2026-05-18/
LOCATION:Gemeinschaftshaus Sanitz\, Hof Sanitz 1\, Sanitz\, Mecklenburg Vorpommern\, 18190\, Germany
END:VEVENT
BEGIN:VEVENT
DTSTART;TZID=Europe/Berlin:20260518T144500
DTEND;TZID=Europe/Berlin:20260518T154500
DTSTAMP:20260425T014428
CREATED:20260424T103735Z
LAST-MODIFIED:20260424T103735Z
UID:27112-1779115500-1779119100@gemeindesanitz.de
SUMMARY:Seniorensport für Anfänger
DESCRIPTION:
URL:https://gemeindesanitz.de/event/seniorensport-fuer-anfaenger/2026-05-18/
LOCATION:Gemeinschaftshaus Sanitz\, Hof Sanitz 1\, Sanitz\, Mecklenburg Vorpommern\, 18190\, Germany
END:VEVENT
BEGIN:VEVENT
DTSTART;TZID=Europe/Berlin:20260518T160000
DTEND;TZID=Europe/Berlin:20260518T170000
DTSTAMP:20260425T014428
CREATED:20260424T103958Z
LAST-MODIFIED:20260424T103958Z
UID:27218-1779120000-1779123600@gemeindesanitz.de
SUMMARY:Rückenfit für Männer - Seniorensport
DESCRIPTION:
URL:https://gemeindesanitz.de/event/rueckenfit-fuer-maenner-seniorensport/2026-05-18/
LOCATION:Gemeinschaftshaus Sanitz\, Hof Sanitz 1\, Sanitz\, Mecklenburg Vorpommern\, 18190\, Germany
END:VEVENT
BEGIN:VEVENT
DTSTART;TZID=Europe/Berlin:20260525T133000
DTEND;TZID=Europe/Berlin:20260525T143000
DTSTAMP:20260425T014428
CREATED:20260424T103847Z
LAST-MODIFIED:20260424T103847Z
UID:27166-1779715800-1779719400@gemeindesanitz.de
SUMMARY:Seniorensport für Fortgeschrittene
DESCRIPTION:
URL:https://gemeindesanitz.de/event/seniorensport-fuer-fortgeschrittene/2026-05-25/
LOCATION:Gemeinschaftshaus Sanitz\, Hof Sanitz 1\, Sanitz\, Mecklenburg Vorpommern\, 18190\, Germany
END:VEVENT
BEGIN:VEVENT
DTSTART;TZID=Europe/Berlin:20260525T144500
DTEND;TZID=Europe/Berlin:20260525T154500
DTSTAMP:20260425T014428
CREATED:20260424T103735Z
LAST-MODIFIED:20260424T103735Z
UID:27113-1779720300-1779723900@gemeindesanitz.de
SUMMARY:Seniorensport für Anfänger
DESCRIPTION:
URL:https://gemeindesanitz.de/event/seniorensport-fuer-anfaenger/2026-05-25/
LOCATION:Gemeinschaftshaus Sanitz\, Hof Sanitz 1\, Sanitz\, Mecklenburg Vorpommern\, 18190\, Germany
END:VEVENT
BEGIN:VEVENT
DTSTART;TZID=Europe/Berlin:20260525T160000
DTEND;TZID=Europe/Berlin:20260525T170000
DTSTAMP:20260425T014428
CREATED:20260424T103958Z
LAST-MODIFIED:20260424T103958Z
UID:27219-1779724800-1779728400@gemeindesanitz.de
SUMMARY:Rückenfit für Männer - Seniorensport
DESCRIPTION:
URL:https://gemeindesanitz.de/event/rueckenfit-fuer-maenner-seniorensport/2026-05-25/
LOCATION:Gemeinschaftshaus Sanitz\, Hof Sanitz 1\, Sanitz\, Mecklenburg Vorpommern\, 18190\, Germany
END:VEVENT
BEGIN:VEVENT
DTSTART;TZID=Europe/Berlin:20260601T133000
DTEND;TZID=Europe/Berlin:20260601T143000
DTSTAMP:20260425T014428
CREATED:20260424T103847Z
LAST-MODIFIED:20260424T103847Z
UID:27167-1780320600-1780324200@gemeindesanitz.de
SUMMARY:Seniorensport für Fortgeschrittene
DESCRIPTION:
URL:https://gemeindesanitz.de/event/seniorensport-fuer-fortgeschrittene/2026-06-01/
LOCATION:Gemeinschaftshaus Sanitz\, Hof Sanitz 1\, Sanitz\, Mecklenburg Vorpommern\, 18190\, Germany
END:VEVENT
BEGIN:VEVENT
DTSTART;TZID=Europe/Berlin:20260601T144500
DTEND;TZID=Europe/Berlin:20260601T154500
DTSTAMP:20260425T014428
CREATED:20260424T103735Z
LAST-MODIFIED:20260424T103735Z
UID:27114-1780325100-1780328700@gemeindesanitz.de
SUMMARY:Seniorensport für Anfänger
DESCRIPTION:
URL:https://gemeindesanitz.de/event/seniorensport-fuer-anfaenger/2026-06-01/
LOCATION:Gemeinschaftshaus Sanitz\, Hof Sanitz 1\, Sanitz\, Mecklenburg Vorpommern\, 18190\, Germany
END:VEVENT
BEGIN:VEVENT
DTSTART;TZID=Europe/Berlin:20260601T160000
DTEND;TZID=Europe/Berlin:20260601T170000
DTSTAMP:20260425T014428
CREATED:20260424T103958Z
LAST-MODIFIED:20260424T103958Z
UID:27220-1780329600-1780333200@gemeindesanitz.de
SUMMARY:Rückenfit für Männer - Seniorensport
DESCRIPTION:
URL:https://gemeindesanitz.de/event/rueckenfit-fuer-maenner-seniorensport/2026-06-01/
LOCATION:Gemeinschaftshaus Sanitz\, Hof Sanitz 1\, Sanitz\, Mecklenburg Vorpommern\, 18190\, Germany
END:VEVENT
BEGIN:VEVENT
DTSTART;TZID=Europe/Berlin:20260608T133000
DTEND;TZID=Europe/Berlin:20260608T143000
DTSTAMP:20260425T014428
CREATED:20260424T103847Z
LAST-MODIFIED:20260424T103847Z
UID:27168-1780925400-1780929000@gemeindesanitz.de
SUMMARY:Seniorensport für Fortgeschrittene
DESCRIPTION:
URL:https://gemeindesanitz.de/event/seniorensport-fuer-fortgeschrittene/2026-06-08/
LOCATION:Gemeinschaftshaus Sanitz\, Hof Sanitz 1\, Sanitz\, Mecklenburg Vorpommern\, 18190\, Germany
END:VEVENT
BEGIN:VEVENT
DTSTART;TZID=Europe/Berlin:20260608T144500
DTEND;TZID=Europe/Berlin:20260608T154500
DTSTAMP:20260425T014428
CREATED:20260424T103735Z
LAST-MODIFIED:20260424T103735Z
UID:27115-1780929900-1780933500@gemeindesanitz.de
SUMMARY:Seniorensport für Anfänger
DESCRIPTION:
URL:https://gemeindesanitz.de/event/seniorensport-fuer-anfaenger/2026-06-08/
LOCATION:Gemeinschaftshaus Sanitz\, Hof Sanitz 1\, Sanitz\, Mecklenburg Vorpommern\, 18190\, Germany
END:VEVENT
BEGIN:VEVENT
DTSTART;TZID=Europe/Berlin:20260608T160000
DTEND;TZID=Europe/Berlin:20260608T170000
DTSTAMP:20260425T014428
CREATED:20260424T103958Z
LAST-MODIFIED:20260424T103958Z
UID:27221-1780934400-1780938000@gemeindesanitz.de
SUMMARY:Rückenfit für Männer - Seniorensport
DESCRIPTION:
URL:https://gemeindesanitz.de/event/rueckenfit-fuer-maenner-seniorensport/2026-06-08/
LOCATION:Gemeinschaftshaus Sanitz\, Hof Sanitz 1\, Sanitz\, Mecklenburg Vorpommern\, 18190\, Germany
END:VEVENT
BEGIN:VEVENT
DTSTART;TZID=Europe/Berlin:20260615T133000
DTEND;TZID=Europe/Berlin:20260615T143000
DTSTAMP:20260425T014428
CREATED:20260424T103847Z
LAST-MODIFIED:20260424T103847Z
UID:27169-1781530200-1781533800@gemeindesanitz.de
SUMMARY:Seniorensport für Fortgeschrittene
DESCRIPTION:
URL:https://gemeindesanitz.de/event/seniorensport-fuer-fortgeschrittene/2026-06-15/
LOCATION:Gemeinschaftshaus Sanitz\, Hof Sanitz 1\, Sanitz\, Mecklenburg Vorpommern\, 18190\, Germany
END:VEVENT
BEGIN:VEVENT
DTSTART;TZID=Europe/Berlin:20260615T144500
DTEND;TZID=Europe/Berlin:20260615T154500
DTSTAMP:20260425T014428
CREATED:20260424T103735Z
LAST-MODIFIED:20260424T103735Z
UID:27116-1781534700-1781538300@gemeindesanitz.de
SUMMARY:Seniorensport für Anfänger
DESCRIPTION:
URL:https://gemeindesanitz.de/event/seniorensport-fuer-anfaenger/2026-06-15/
LOCATION:Gemeinschaftshaus Sanitz\, Hof Sanitz 1\, Sanitz\, Mecklenburg Vorpommern\, 18190\, Germany
END:VEVENT
BEGIN:VEVENT
DTSTART;TZID=Europe/Berlin:20260615T160000
DTEND;TZID=Europe/Berlin:20260615T170000
DTSTAMP:20260425T014428
CREATED:20260424T103958Z
LAST-MODIFIED:20260424T103958Z
UID:27222-1781539200-1781542800@gemeindesanitz.de
SUMMARY:Rückenfit für Männer - Seniorensport
DESCRIPTION:
URL:https://gemeindesanitz.de/event/rueckenfit-fuer-maenner-seniorensport/2026-06-15/
LOCATION:Gemeinschaftshaus Sanitz\, Hof Sanitz 1\, Sanitz\, Mecklenburg Vorpommern\, 18190\, Germany
END:VEVENT
BEGIN:VEVENT
DTSTART;TZID=Europe/Berlin:20260622T133000
DTEND;TZID=Europe/Berlin:20260622T143000
DTSTAMP:20260425T014428
CREATED:20260424T103847Z
LAST-MODIFIED:20260424T103847Z
UID:27170-1782135000-1782138600@gemeindesanitz.de
SUMMARY:Seniorensport für Fortgeschrittene
DESCRIPTION:
URL:https://gemeindesanitz.de/event/seniorensport-fuer-fortgeschrittene/2026-06-22/
LOCATION:Gemeinschaftshaus Sanitz\, Hof Sanitz 1\, Sanitz\, Mecklenburg Vorpommern\, 18190\, Germany
END:VEVENT
BEGIN:VEVENT
DTSTART;TZID=Europe/Berlin:20260622T144500
DTEND;TZID=Europe/Berlin:20260622T154500
DTSTAMP:20260425T014428
CREATED:20260424T103735Z
LAST-MODIFIED:20260424T103735Z
UID:27117-1782139500-1782143100@gemeindesanitz.de
SUMMARY:Seniorensport für Anfänger
DESCRIPTION:
URL:https://gemeindesanitz.de/event/seniorensport-fuer-anfaenger/2026-06-22/
LOCATION:Gemeinschaftshaus Sanitz\, Hof Sanitz 1\, Sanitz\, Mecklenburg Vorpommern\, 18190\, Germany
END:VEVENT
BEGIN:VEVENT
DTSTART;TZID=Europe/Berlin:20260622T160000
DTEND;TZID=Europe/Berlin:20260622T170000
DTSTAMP:20260425T014428
CREATED:20260424T103958Z
LAST-MODIFIED:20260424T103958Z
UID:27223-1782144000-1782147600@gemeindesanitz.de
SUMMARY:Rückenfit für Männer - Seniorensport
DESCRIPTION:
URL:https://gemeindesanitz.de/event/rueckenfit-fuer-maenner-seniorensport/2026-06-22/
LOCATION:Gemeinschaftshaus Sanitz\, Hof Sanitz 1\, Sanitz\, Mecklenburg Vorpommern\, 18190\, Germany
END:VEVENT
BEGIN:VEVENT
DTSTART;TZID=Europe/Berlin:20260629T133000
DTEND;TZID=Europe/Berlin:20260629T143000
DTSTAMP:20260425T014428
CREATED:20260424T103847Z
LAST-MODIFIED:20260424T103847Z
UID:27171-1782739800-1782743400@gemeindesanitz.de
SUMMARY:Seniorensport für Fortgeschrittene
DESCRIPTION:
URL:https://gemeindesanitz.de/event/seniorensport-fuer-fortgeschrittene/2026-06-29/
LOCATION:Gemeinschaftshaus Sanitz\, Hof Sanitz 1\, Sanitz\, Mecklenburg Vorpommern\, 18190\, Germany
END:VEVENT
BEGIN:VEVENT
DTSTART;TZID=Europe/Berlin:20260629T144500
DTEND;TZID=Europe/Berlin:20260629T154500
DTSTAMP:20260425T014428
CREATED:20260424T103735Z
LAST-MODIFIED:20260424T103735Z
UID:27118-1782744300-1782747900@gemeindesanitz.de
SUMMARY:Seniorensport für Anfänger
DESCRIPTION:
URL:https://gemeindesanitz.de/event/seniorensport-fuer-anfaenger/2026-06-29/
LOCATION:Gemeinschaftshaus Sanitz\, Hof Sanitz 1\, Sanitz\, Mecklenburg Vorpommern\, 18190\, Germany
END:VEVENT
BEGIN:VEVENT
DTSTART;TZID=Europe/Berlin:20260629T160000
DTEND;TZID=Europe/Berlin:20260629T170000
DTSTAMP:20260425T014428
CREATED:20260424T103958Z
LAST-MODIFIED:20260424T103958Z
UID:27224-1782748800-1782752400@gemeindesanitz.de
SUMMARY:Rückenfit für Männer - Seniorensport
DESCRIPTION:
URL:https://gemeindesanitz.de/event/rueckenfit-fuer-maenner-seniorensport/2026-06-29/
LOCATION:Gemeinschaftshaus Sanitz\, Hof Sanitz 1\, Sanitz\, Mecklenburg Vorpommern\, 18190\, Germany
END:VEVENT
END:VCALENDAR