BEGIN:VCALENDAR
VERSION:2.0
PRODID:-//gemeindesanitz.de - ECPv5.12.4//NONSGML v1.0//EN
CALSCALE:GREGORIAN
METHOD:PUBLISH
X-WR-CALNAME:gemeindesanitz.de
X-ORIGINAL-URL:https://gemeindesanitz.de
X-WR-CALDESC:Events for gemeindesanitz.de
REFRESH-INTERVAL;VALUE=DURATION:PT1H
X-Robots-Tag:noindex
X-PUBLISHED-TTL:PT1H
BEGIN:VTIMEZONE
TZID:Europe/Berlin
BEGIN:DAYLIGHT
TZOFFSETFROM:+0100
TZOFFSETTO:+0200
TZNAME:CEST
DTSTART:20260329T010000
END:DAYLIGHT
BEGIN:STANDARD
TZOFFSETFROM:+0200
TZOFFSETTO:+0100
TZNAME:CET
DTSTART:20261025T010000
END:STANDARD
END:VTIMEZONE
BEGIN:VEVENT
DTSTART;TZID=Europe/Berlin:20260406T144500
DTEND;TZID=Europe/Berlin:20260406T154500
DTSTAMP:20260425T050322
CREATED:20260424T103735Z
LAST-MODIFIED:20260424T103735Z
UID:27106-1775486700-1775490300@gemeindesanitz.de
SUMMARY:Seniorensport für Anfänger
DESCRIPTION:
URL:https://gemeindesanitz.de/event/seniorensport-fuer-anfaenger/2026-04-06/
LOCATION:Gemeinschaftshaus Sanitz\, Hof Sanitz 1\, Sanitz\, Mecklenburg Vorpommern\, 18190\, Germany
END:VEVENT
BEGIN:VEVENT
DTSTART;TZID=Europe/Berlin:20260406T133000
DTEND;TZID=Europe/Berlin:20260406T143000
DTSTAMP:20260425T050322
CREATED:20260424T103847Z
LAST-MODIFIED:20260424T103847Z
UID:27159-1775482200-1775485800@gemeindesanitz.de
SUMMARY:Seniorensport für Fortgeschrittene
DESCRIPTION:
URL:https://gemeindesanitz.de/event/seniorensport-fuer-fortgeschrittene/2026-04-06/
LOCATION:Gemeinschaftshaus Sanitz\, Hof Sanitz 1\, Sanitz\, Mecklenburg Vorpommern\, 18190\, Germany
END:VEVENT
BEGIN:VEVENT
DTSTART;TZID=Europe/Berlin:20260330T160000
DTEND;TZID=Europe/Berlin:20260330T170000
DTSTAMP:20260425T050322
CREATED:20260424T103958Z
LAST-MODIFIED:20260424T103958Z
UID:27211-1774886400-1774890000@gemeindesanitz.de
SUMMARY:Rückenfit für Männer - Seniorensport
DESCRIPTION:
URL:https://gemeindesanitz.de/event/rueckenfit-fuer-maenner-seniorensport/2026-03-30/
LOCATION:Gemeinschaftshaus Sanitz\, Hof Sanitz 1\, Sanitz\, Mecklenburg Vorpommern\, 18190\, Germany
END:VEVENT
BEGIN:VEVENT
DTSTART;TZID=Europe/Berlin:20260330T144500
DTEND;TZID=Europe/Berlin:20260330T154500
DTSTAMP:20260425T050322
CREATED:20260424T103735Z
LAST-MODIFIED:20260424T103735Z
UID:27105-1774881900-1774885500@gemeindesanitz.de
SUMMARY:Seniorensport für Anfänger
DESCRIPTION:
URL:https://gemeindesanitz.de/event/seniorensport-fuer-anfaenger/2026-03-30/
LOCATION:Gemeinschaftshaus Sanitz\, Hof Sanitz 1\, Sanitz\, Mecklenburg Vorpommern\, 18190\, Germany
END:VEVENT
BEGIN:VEVENT
DTSTART;TZID=Europe/Berlin:20260330T133000
DTEND;TZID=Europe/Berlin:20260330T143000
DTSTAMP:20260425T050322
CREATED:20260424T103847Z
LAST-MODIFIED:20260424T103847Z
UID:27158-1774877400-1774881000@gemeindesanitz.de
SUMMARY:Seniorensport für Fortgeschrittene
DESCRIPTION:
URL:https://gemeindesanitz.de/event/seniorensport-fuer-fortgeschrittene/2026-03-30/
LOCATION:Gemeinschaftshaus Sanitz\, Hof Sanitz 1\, Sanitz\, Mecklenburg Vorpommern\, 18190\, Germany
END:VEVENT
BEGIN:VEVENT
DTSTART;TZID=Europe/Berlin:20260323T160000
DTEND;TZID=Europe/Berlin:20260323T170000
DTSTAMP:20260425T050322
CREATED:20260424T103958Z
LAST-MODIFIED:20260424T103958Z
UID:27210-1774281600-1774285200@gemeindesanitz.de
SUMMARY:Rückenfit für Männer - Seniorensport
DESCRIPTION:
URL:https://gemeindesanitz.de/event/rueckenfit-fuer-maenner-seniorensport/2026-03-23/
LOCATION:Gemeinschaftshaus Sanitz\, Hof Sanitz 1\, Sanitz\, Mecklenburg Vorpommern\, 18190\, Germany
END:VEVENT
BEGIN:VEVENT
DTSTART;TZID=Europe/Berlin:20260323T144500
DTEND;TZID=Europe/Berlin:20260323T154500
DTSTAMP:20260425T050322
CREATED:20260424T103735Z
LAST-MODIFIED:20260424T103735Z
UID:27104-1774277100-1774280700@gemeindesanitz.de
SUMMARY:Seniorensport für Anfänger
DESCRIPTION:
URL:https://gemeindesanitz.de/event/seniorensport-fuer-anfaenger/2026-03-23/
LOCATION:Gemeinschaftshaus Sanitz\, Hof Sanitz 1\, Sanitz\, Mecklenburg Vorpommern\, 18190\, Germany
END:VEVENT
BEGIN:VEVENT
DTSTART;TZID=Europe/Berlin:20260323T133000
DTEND;TZID=Europe/Berlin:20260323T143000
DTSTAMP:20260425T050322
CREATED:20260424T103847Z
LAST-MODIFIED:20260424T103847Z
UID:27157-1774272600-1774276200@gemeindesanitz.de
SUMMARY:Seniorensport für Fortgeschrittene
DESCRIPTION:
URL:https://gemeindesanitz.de/event/seniorensport-fuer-fortgeschrittene/2026-03-23/
LOCATION:Gemeinschaftshaus Sanitz\, Hof Sanitz 1\, Sanitz\, Mecklenburg Vorpommern\, 18190\, Germany
END:VEVENT
BEGIN:VEVENT
DTSTART;TZID=Europe/Berlin:20260316T160000
DTEND;TZID=Europe/Berlin:20260316T170000
DTSTAMP:20260425T050322
CREATED:20260424T103958Z
LAST-MODIFIED:20260424T103958Z
UID:27209-1773676800-1773680400@gemeindesanitz.de
SUMMARY:Rückenfit für Männer - Seniorensport
DESCRIPTION:
URL:https://gemeindesanitz.de/event/rueckenfit-fuer-maenner-seniorensport/2026-03-16/
LOCATION:Gemeinschaftshaus Sanitz\, Hof Sanitz 1\, Sanitz\, Mecklenburg Vorpommern\, 18190\, Germany
END:VEVENT
BEGIN:VEVENT
DTSTART;TZID=Europe/Berlin:20260316T144500
DTEND;TZID=Europe/Berlin:20260316T154500
DTSTAMP:20260425T050322
CREATED:20260424T103735Z
LAST-MODIFIED:20260424T103735Z
UID:27103-1773672300-1773675900@gemeindesanitz.de
SUMMARY:Seniorensport für Anfänger
DESCRIPTION:
URL:https://gemeindesanitz.de/event/seniorensport-fuer-anfaenger/2026-03-16/
LOCATION:Gemeinschaftshaus Sanitz\, Hof Sanitz 1\, Sanitz\, Mecklenburg Vorpommern\, 18190\, Germany
END:VEVENT
BEGIN:VEVENT
DTSTART;TZID=Europe/Berlin:20260316T133000
DTEND;TZID=Europe/Berlin:20260316T143000
DTSTAMP:20260425T050322
CREATED:20260424T103847Z
LAST-MODIFIED:20260424T103847Z
UID:27156-1773667800-1773671400@gemeindesanitz.de
SUMMARY:Seniorensport für Fortgeschrittene
DESCRIPTION:
URL:https://gemeindesanitz.de/event/seniorensport-fuer-fortgeschrittene/2026-03-16/
LOCATION:Gemeinschaftshaus Sanitz\, Hof Sanitz 1\, Sanitz\, Mecklenburg Vorpommern\, 18190\, Germany
END:VEVENT
BEGIN:VEVENT
DTSTART;TZID=Europe/Berlin:20260309T160000
DTEND;TZID=Europe/Berlin:20260309T170000
DTSTAMP:20260425T050322
CREATED:20260424T103958Z
LAST-MODIFIED:20260424T103958Z
UID:27208-1773072000-1773075600@gemeindesanitz.de
SUMMARY:Rückenfit für Männer - Seniorensport
DESCRIPTION:
URL:https://gemeindesanitz.de/event/rueckenfit-fuer-maenner-seniorensport/2026-03-09/
LOCATION:Gemeinschaftshaus Sanitz\, Hof Sanitz 1\, Sanitz\, Mecklenburg Vorpommern\, 18190\, Germany
END:VEVENT
BEGIN:VEVENT
DTSTART;TZID=Europe/Berlin:20260309T144500
DTEND;TZID=Europe/Berlin:20260309T154500
DTSTAMP:20260425T050322
CREATED:20260424T103735Z
LAST-MODIFIED:20260424T103735Z
UID:27102-1773067500-1773071100@gemeindesanitz.de
SUMMARY:Seniorensport für Anfänger
DESCRIPTION:
URL:https://gemeindesanitz.de/event/seniorensport-fuer-anfaenger/2026-03-09/
LOCATION:Gemeinschaftshaus Sanitz\, Hof Sanitz 1\, Sanitz\, Mecklenburg Vorpommern\, 18190\, Germany
END:VEVENT
BEGIN:VEVENT
DTSTART;TZID=Europe/Berlin:20260309T133000
DTEND;TZID=Europe/Berlin:20260309T143000
DTSTAMP:20260425T050322
CREATED:20260424T103847Z
LAST-MODIFIED:20260424T103847Z
UID:27155-1773063000-1773066600@gemeindesanitz.de
SUMMARY:Seniorensport für Fortgeschrittene
DESCRIPTION:
URL:https://gemeindesanitz.de/event/seniorensport-fuer-fortgeschrittene/2026-03-09/
LOCATION:Gemeinschaftshaus Sanitz\, Hof Sanitz 1\, Sanitz\, Mecklenburg Vorpommern\, 18190\, Germany
END:VEVENT
BEGIN:VEVENT
DTSTART;TZID=Europe/Berlin:20260302T160000
DTEND;TZID=Europe/Berlin:20260302T170000
DTSTAMP:20260425T050322
CREATED:20260424T103958Z
LAST-MODIFIED:20260424T103958Z
UID:27207-1772467200-1772470800@gemeindesanitz.de
SUMMARY:Rückenfit für Männer - Seniorensport
DESCRIPTION:
URL:https://gemeindesanitz.de/event/rueckenfit-fuer-maenner-seniorensport/2026-03-02/
LOCATION:Gemeinschaftshaus Sanitz\, Hof Sanitz 1\, Sanitz\, Mecklenburg Vorpommern\, 18190\, Germany
END:VEVENT
BEGIN:VEVENT
DTSTART;TZID=Europe/Berlin:20260302T144500
DTEND;TZID=Europe/Berlin:20260302T154500
DTSTAMP:20260425T050322
CREATED:20260424T103735Z
LAST-MODIFIED:20260424T103735Z
UID:27101-1772462700-1772466300@gemeindesanitz.de
SUMMARY:Seniorensport für Anfänger
DESCRIPTION:
URL:https://gemeindesanitz.de/event/seniorensport-fuer-anfaenger/2026-03-02/
LOCATION:Gemeinschaftshaus Sanitz\, Hof Sanitz 1\, Sanitz\, Mecklenburg Vorpommern\, 18190\, Germany
END:VEVENT
BEGIN:VEVENT
DTSTART;TZID=Europe/Berlin:20260302T133000
DTEND;TZID=Europe/Berlin:20260302T143000
DTSTAMP:20260425T050322
CREATED:20260424T103847Z
LAST-MODIFIED:20260424T103847Z
UID:27154-1772458200-1772461800@gemeindesanitz.de
SUMMARY:Seniorensport für Fortgeschrittene
DESCRIPTION:
URL:https://gemeindesanitz.de/event/seniorensport-fuer-fortgeschrittene/2026-03-02/
LOCATION:Gemeinschaftshaus Sanitz\, Hof Sanitz 1\, Sanitz\, Mecklenburg Vorpommern\, 18190\, Germany
END:VEVENT
BEGIN:VEVENT
DTSTART;TZID=Europe/Berlin:20260223T160000
DTEND;TZID=Europe/Berlin:20260223T170000
DTSTAMP:20260425T050322
CREATED:20260424T103958Z
LAST-MODIFIED:20260424T103958Z
UID:27206-1771862400-1771866000@gemeindesanitz.de
SUMMARY:Rückenfit für Männer - Seniorensport
DESCRIPTION:
URL:https://gemeindesanitz.de/event/rueckenfit-fuer-maenner-seniorensport/2026-02-23/
LOCATION:Gemeinschaftshaus Sanitz\, Hof Sanitz 1\, Sanitz\, Mecklenburg Vorpommern\, 18190\, Germany
END:VEVENT
BEGIN:VEVENT
DTSTART;TZID=Europe/Berlin:20260223T144500
DTEND;TZID=Europe/Berlin:20260223T154500
DTSTAMP:20260425T050322
CREATED:20260424T103735Z
LAST-MODIFIED:20260424T103735Z
UID:27100-1771857900-1771861500@gemeindesanitz.de
SUMMARY:Seniorensport für Anfänger
DESCRIPTION:
URL:https://gemeindesanitz.de/event/seniorensport-fuer-anfaenger/2026-02-23/
LOCATION:Gemeinschaftshaus Sanitz\, Hof Sanitz 1\, Sanitz\, Mecklenburg Vorpommern\, 18190\, Germany
END:VEVENT
BEGIN:VEVENT
DTSTART;TZID=Europe/Berlin:20260223T133000
DTEND;TZID=Europe/Berlin:20260223T143000
DTSTAMP:20260425T050322
CREATED:20260424T103847Z
LAST-MODIFIED:20260424T103847Z
UID:27153-1771853400-1771857000@gemeindesanitz.de
SUMMARY:Seniorensport für Fortgeschrittene
DESCRIPTION:
URL:https://gemeindesanitz.de/event/seniorensport-fuer-fortgeschrittene/2026-02-23/
LOCATION:Gemeinschaftshaus Sanitz\, Hof Sanitz 1\, Sanitz\, Mecklenburg Vorpommern\, 18190\, Germany
END:VEVENT
BEGIN:VEVENT
DTSTART;TZID=Europe/Berlin:20260216T160000
DTEND;TZID=Europe/Berlin:20260216T170000
DTSTAMP:20260425T050322
CREATED:20260424T103958Z
LAST-MODIFIED:20260424T103958Z
UID:27205-1771257600-1771261200@gemeindesanitz.de
SUMMARY:Rückenfit für Männer - Seniorensport
DESCRIPTION:
URL:https://gemeindesanitz.de/event/rueckenfit-fuer-maenner-seniorensport/2026-02-16/
LOCATION:Gemeinschaftshaus Sanitz\, Hof Sanitz 1\, Sanitz\, Mecklenburg Vorpommern\, 18190\, Germany
END:VEVENT
BEGIN:VEVENT
DTSTART;TZID=Europe/Berlin:20260216T144500
DTEND;TZID=Europe/Berlin:20260216T154500
DTSTAMP:20260425T050322
CREATED:20260424T103735Z
LAST-MODIFIED:20260424T103735Z
UID:27099-1771253100-1771256700@gemeindesanitz.de
SUMMARY:Seniorensport für Anfänger
DESCRIPTION:
URL:https://gemeindesanitz.de/event/seniorensport-fuer-anfaenger/2026-02-16/
LOCATION:Gemeinschaftshaus Sanitz\, Hof Sanitz 1\, Sanitz\, Mecklenburg Vorpommern\, 18190\, Germany
END:VEVENT
BEGIN:VEVENT
DTSTART;TZID=Europe/Berlin:20260216T133000
DTEND;TZID=Europe/Berlin:20260216T143000
DTSTAMP:20260425T050322
CREATED:20260424T103847Z
LAST-MODIFIED:20260424T103847Z
UID:27152-1771248600-1771252200@gemeindesanitz.de
SUMMARY:Seniorensport für Fortgeschrittene
DESCRIPTION:
URL:https://gemeindesanitz.de/event/seniorensport-fuer-fortgeschrittene/2026-02-16/
LOCATION:Gemeinschaftshaus Sanitz\, Hof Sanitz 1\, Sanitz\, Mecklenburg Vorpommern\, 18190\, Germany
END:VEVENT
BEGIN:VEVENT
DTSTART;TZID=Europe/Berlin:20260209T160000
DTEND;TZID=Europe/Berlin:20260209T170000
DTSTAMP:20260425T050322
CREATED:20260424T103958Z
LAST-MODIFIED:20260424T103958Z
UID:27204-1770652800-1770656400@gemeindesanitz.de
SUMMARY:Rückenfit für Männer - Seniorensport
DESCRIPTION:
URL:https://gemeindesanitz.de/event/rueckenfit-fuer-maenner-seniorensport/2026-02-09/
LOCATION:Gemeinschaftshaus Sanitz\, Hof Sanitz 1\, Sanitz\, Mecklenburg Vorpommern\, 18190\, Germany
END:VEVENT
BEGIN:VEVENT
DTSTART;TZID=Europe/Berlin:20260209T144500
DTEND;TZID=Europe/Berlin:20260209T154500
DTSTAMP:20260425T050322
CREATED:20260424T103735Z
LAST-MODIFIED:20260424T103735Z
UID:27098-1770648300-1770651900@gemeindesanitz.de
SUMMARY:Seniorensport für Anfänger
DESCRIPTION:
URL:https://gemeindesanitz.de/event/seniorensport-fuer-anfaenger/2026-02-09/
LOCATION:Gemeinschaftshaus Sanitz\, Hof Sanitz 1\, Sanitz\, Mecklenburg Vorpommern\, 18190\, Germany
END:VEVENT
BEGIN:VEVENT
DTSTART;TZID=Europe/Berlin:20260209T133000
DTEND;TZID=Europe/Berlin:20260209T143000
DTSTAMP:20260425T050322
CREATED:20260424T103847Z
LAST-MODIFIED:20260424T103847Z
UID:27151-1770643800-1770647400@gemeindesanitz.de
SUMMARY:Seniorensport für Fortgeschrittene
DESCRIPTION:
URL:https://gemeindesanitz.de/event/seniorensport-fuer-fortgeschrittene/2026-02-09/
LOCATION:Gemeinschaftshaus Sanitz\, Hof Sanitz 1\, Sanitz\, Mecklenburg Vorpommern\, 18190\, Germany
END:VEVENT
BEGIN:VEVENT
DTSTART;TZID=Europe/Berlin:20260202T160000
DTEND;TZID=Europe/Berlin:20260202T170000
DTSTAMP:20260425T050322
CREATED:20260424T103958Z
LAST-MODIFIED:20260424T103958Z
UID:27203-1770048000-1770051600@gemeindesanitz.de
SUMMARY:Rückenfit für Männer - Seniorensport
DESCRIPTION:
URL:https://gemeindesanitz.de/event/rueckenfit-fuer-maenner-seniorensport/2026-02-02/
LOCATION:Gemeinschaftshaus Sanitz\, Hof Sanitz 1\, Sanitz\, Mecklenburg Vorpommern\, 18190\, Germany
END:VEVENT
BEGIN:VEVENT
DTSTART;TZID=Europe/Berlin:20260202T144500
DTEND;TZID=Europe/Berlin:20260202T154500
DTSTAMP:20260425T050322
CREATED:20260424T103735Z
LAST-MODIFIED:20260424T103735Z
UID:27097-1770043500-1770047100@gemeindesanitz.de
SUMMARY:Seniorensport für Anfänger
DESCRIPTION:
URL:https://gemeindesanitz.de/event/seniorensport-fuer-anfaenger/2026-02-02/
LOCATION:Gemeinschaftshaus Sanitz\, Hof Sanitz 1\, Sanitz\, Mecklenburg Vorpommern\, 18190\, Germany
END:VEVENT
BEGIN:VEVENT
DTSTART;TZID=Europe/Berlin:20260202T133000
DTEND;TZID=Europe/Berlin:20260202T143000
DTSTAMP:20260425T050322
CREATED:20260424T103847Z
LAST-MODIFIED:20260424T103847Z
UID:27150-1770039000-1770042600@gemeindesanitz.de
SUMMARY:Seniorensport für Fortgeschrittene
DESCRIPTION:
URL:https://gemeindesanitz.de/event/seniorensport-fuer-fortgeschrittene/2026-02-02/
LOCATION:Gemeinschaftshaus Sanitz\, Hof Sanitz 1\, Sanitz\, Mecklenburg Vorpommern\, 18190\, Germany
END:VEVENT
BEGIN:VEVENT
DTSTART;TZID=Europe/Berlin:20260126T160000
DTEND;TZID=Europe/Berlin:20260126T170000
DTSTAMP:20260425T050322
CREATED:20260424T103958Z
LAST-MODIFIED:20260424T103958Z
UID:27202-1769443200-1769446800@gemeindesanitz.de
SUMMARY:Rückenfit für Männer - Seniorensport
DESCRIPTION:
URL:https://gemeindesanitz.de/event/rueckenfit-fuer-maenner-seniorensport/2026-01-26/
LOCATION:Gemeinschaftshaus Sanitz\, Hof Sanitz 1\, Sanitz\, Mecklenburg Vorpommern\, 18190\, Germany
END:VEVENT
END:VCALENDAR