BEGIN:VCALENDAR
VERSION:2.0
PRODID:-//gemeindesanitz.de - ECPv5.12.4//NONSGML v1.0//EN
CALSCALE:GREGORIAN
METHOD:PUBLISH
X-WR-CALNAME:gemeindesanitz.de
X-ORIGINAL-URL:https://gemeindesanitz.de
X-WR-CALDESC:Events for gemeindesanitz.de
REFRESH-INTERVAL;VALUE=DURATION:PT1H
X-Robots-Tag:noindex
X-PUBLISHED-TTL:PT1H
BEGIN:VTIMEZONE
TZID:Europe/Berlin
BEGIN:DAYLIGHT
TZOFFSETFROM:+0100
TZOFFSETTO:+0200
TZNAME:CEST
DTSTART:20260329T010000
END:DAYLIGHT
BEGIN:STANDARD
TZOFFSETFROM:+0200
TZOFFSETTO:+0100
TZNAME:CET
DTSTART:20261025T010000
END:STANDARD
END:VTIMEZONE
BEGIN:VEVENT
DTSTART;TZID=Europe/Berlin:20260423T133000
DTEND;TZID=Europe/Berlin:20260423T160000
DTSTAMP:20260425T012557
CREATED:20260424T104327Z
LAST-MODIFIED:20260424T104327Z
UID:27322-1776951000-1776960000@gemeindesanitz.de
SUMMARY:Handarbeit
DESCRIPTION:
URL:https://gemeindesanitz.de/event/handarbeit/2026-04-23/
LOCATION:Gemeinschaftshaus Sanitz\, Hof Sanitz 1\, Sanitz\, Mecklenburg Vorpommern\, 18190\, Germany
END:VEVENT
BEGIN:VEVENT
DTSTART;TZID=Europe/Berlin:20260416T133000
DTEND;TZID=Europe/Berlin:20260416T160000
DTSTAMP:20260425T012557
CREATED:20260424T104327Z
LAST-MODIFIED:20260424T104327Z
UID:27321-1776346200-1776355200@gemeindesanitz.de
SUMMARY:Handarbeit
DESCRIPTION:
URL:https://gemeindesanitz.de/event/handarbeit/2026-04-16/
LOCATION:Gemeinschaftshaus Sanitz\, Hof Sanitz 1\, Sanitz\, Mecklenburg Vorpommern\, 18190\, Germany
END:VEVENT
BEGIN:VEVENT
DTSTART;TZID=Europe/Berlin:20260409T133000
DTEND;TZID=Europe/Berlin:20260409T160000
DTSTAMP:20260425T012557
CREATED:20260424T104327Z
LAST-MODIFIED:20260424T104327Z
UID:27320-1775741400-1775750400@gemeindesanitz.de
SUMMARY:Handarbeit
DESCRIPTION:
URL:https://gemeindesanitz.de/event/handarbeit/2026-04-09/
LOCATION:Gemeinschaftshaus Sanitz\, Hof Sanitz 1\, Sanitz\, Mecklenburg Vorpommern\, 18190\, Germany
END:VEVENT
BEGIN:VEVENT
DTSTART;TZID=Europe/Berlin:20260402T133000
DTEND;TZID=Europe/Berlin:20260402T160000
DTSTAMP:20260425T012557
CREATED:20260424T104327Z
LAST-MODIFIED:20260424T104327Z
UID:27319-1775136600-1775145600@gemeindesanitz.de
SUMMARY:Handarbeit
DESCRIPTION:
URL:https://gemeindesanitz.de/event/handarbeit/2026-04-02/
LOCATION:Gemeinschaftshaus Sanitz\, Hof Sanitz 1\, Sanitz\, Mecklenburg Vorpommern\, 18190\, Germany
END:VEVENT
BEGIN:VEVENT
DTSTART;TZID=Europe/Berlin:20260326T133000
DTEND;TZID=Europe/Berlin:20260326T160000
DTSTAMP:20260425T012557
CREATED:20260424T104327Z
LAST-MODIFIED:20260424T104327Z
UID:27318-1774531800-1774540800@gemeindesanitz.de
SUMMARY:Handarbeit
DESCRIPTION:
URL:https://gemeindesanitz.de/event/handarbeit/2026-03-26/
LOCATION:Gemeinschaftshaus Sanitz\, Hof Sanitz 1\, Sanitz\, Mecklenburg Vorpommern\, 18190\, Germany
END:VEVENT
BEGIN:VEVENT
DTSTART;TZID=Europe/Berlin:20260319T133000
DTEND;TZID=Europe/Berlin:20260319T160000
DTSTAMP:20260425T012557
CREATED:20260424T104327Z
LAST-MODIFIED:20260424T104327Z
UID:27317-1773927000-1773936000@gemeindesanitz.de
SUMMARY:Handarbeit
DESCRIPTION:
URL:https://gemeindesanitz.de/event/handarbeit/2026-03-19/
LOCATION:Gemeinschaftshaus Sanitz\, Hof Sanitz 1\, Sanitz\, Mecklenburg Vorpommern\, 18190\, Germany
END:VEVENT
BEGIN:VEVENT
DTSTART;TZID=Europe/Berlin:20260312T133000
DTEND;TZID=Europe/Berlin:20260312T160000
DTSTAMP:20260425T012557
CREATED:20260424T104327Z
LAST-MODIFIED:20260424T104327Z
UID:27316-1773322200-1773331200@gemeindesanitz.de
SUMMARY:Handarbeit
DESCRIPTION:
URL:https://gemeindesanitz.de/event/handarbeit/2026-03-12/
LOCATION:Gemeinschaftshaus Sanitz\, Hof Sanitz 1\, Sanitz\, Mecklenburg Vorpommern\, 18190\, Germany
END:VEVENT
BEGIN:VEVENT
DTSTART;TZID=Europe/Berlin:20260305T133000
DTEND;TZID=Europe/Berlin:20260305T160000
DTSTAMP:20260425T012557
CREATED:20260424T104327Z
LAST-MODIFIED:20260424T104327Z
UID:27315-1772717400-1772726400@gemeindesanitz.de
SUMMARY:Handarbeit
DESCRIPTION:
URL:https://gemeindesanitz.de/event/handarbeit/2026-03-05/
LOCATION:Gemeinschaftshaus Sanitz\, Hof Sanitz 1\, Sanitz\, Mecklenburg Vorpommern\, 18190\, Germany
END:VEVENT
BEGIN:VEVENT
DTSTART;TZID=Europe/Berlin:20260226T133000
DTEND;TZID=Europe/Berlin:20260226T160000
DTSTAMP:20260425T012558
CREATED:20260424T104327Z
LAST-MODIFIED:20260424T104327Z
UID:27314-1772112600-1772121600@gemeindesanitz.de
SUMMARY:Handarbeit
DESCRIPTION:
URL:https://gemeindesanitz.de/event/handarbeit/2026-02-26/
LOCATION:Gemeinschaftshaus Sanitz\, Hof Sanitz 1\, Sanitz\, Mecklenburg Vorpommern\, 18190\, Germany
END:VEVENT
BEGIN:VEVENT
DTSTART;TZID=Europe/Berlin:20260219T133000
DTEND;TZID=Europe/Berlin:20260219T160000
DTSTAMP:20260425T012558
CREATED:20260424T104327Z
LAST-MODIFIED:20260424T104327Z
UID:27313-1771507800-1771516800@gemeindesanitz.de
SUMMARY:Handarbeit
DESCRIPTION:
URL:https://gemeindesanitz.de/event/handarbeit/2026-02-19/
LOCATION:Gemeinschaftshaus Sanitz\, Hof Sanitz 1\, Sanitz\, Mecklenburg Vorpommern\, 18190\, Germany
END:VEVENT
BEGIN:VEVENT
DTSTART;TZID=Europe/Berlin:20260212T133000
DTEND;TZID=Europe/Berlin:20260212T160000
DTSTAMP:20260425T012558
CREATED:20260424T104327Z
LAST-MODIFIED:20260424T104327Z
UID:27312-1770903000-1770912000@gemeindesanitz.de
SUMMARY:Handarbeit
DESCRIPTION:
URL:https://gemeindesanitz.de/event/handarbeit/2026-02-12/
LOCATION:Gemeinschaftshaus Sanitz\, Hof Sanitz 1\, Sanitz\, Mecklenburg Vorpommern\, 18190\, Germany
END:VEVENT
BEGIN:VEVENT
DTSTART;TZID=Europe/Berlin:20260205T133000
DTEND;TZID=Europe/Berlin:20260205T160000
DTSTAMP:20260425T012558
CREATED:20260424T104327Z
LAST-MODIFIED:20260424T104327Z
UID:27311-1770298200-1770307200@gemeindesanitz.de
SUMMARY:Handarbeit
DESCRIPTION:
URL:https://gemeindesanitz.de/event/handarbeit/2026-02-05/
LOCATION:Gemeinschaftshaus Sanitz\, Hof Sanitz 1\, Sanitz\, Mecklenburg Vorpommern\, 18190\, Germany
END:VEVENT
BEGIN:VEVENT
DTSTART;TZID=Europe/Berlin:20260129T133000
DTEND;TZID=Europe/Berlin:20260129T160000
DTSTAMP:20260425T012558
CREATED:20260424T104327Z
LAST-MODIFIED:20260424T104327Z
UID:27310-1769693400-1769702400@gemeindesanitz.de
SUMMARY:Handarbeit
DESCRIPTION:
URL:https://gemeindesanitz.de/event/handarbeit/2026-01-29/
LOCATION:Gemeinschaftshaus Sanitz\, Hof Sanitz 1\, Sanitz\, Mecklenburg Vorpommern\, 18190\, Germany
END:VEVENT
BEGIN:VEVENT
DTSTART;TZID=Europe/Berlin:20260122T133000
DTEND;TZID=Europe/Berlin:20260122T160000
DTSTAMP:20260425T012558
CREATED:20260424T104327Z
LAST-MODIFIED:20260424T104327Z
UID:27309-1769088600-1769097600@gemeindesanitz.de
SUMMARY:Handarbeit
DESCRIPTION:
URL:https://gemeindesanitz.de/event/handarbeit/2026-01-22/
LOCATION:Gemeinschaftshaus Sanitz\, Hof Sanitz 1\, Sanitz\, Mecklenburg Vorpommern\, 18190\, Germany
END:VEVENT
BEGIN:VEVENT
DTSTART;TZID=Europe/Berlin:20260115T133000
DTEND;TZID=Europe/Berlin:20260115T160000
DTSTAMP:20260425T012558
CREATED:20260424T104327Z
LAST-MODIFIED:20260424T104327Z
UID:27308-1768483800-1768492800@gemeindesanitz.de
SUMMARY:Handarbeit
DESCRIPTION:
URL:https://gemeindesanitz.de/event/handarbeit/2026-01-15/
LOCATION:Gemeinschaftshaus Sanitz\, Hof Sanitz 1\, Sanitz\, Mecklenburg Vorpommern\, 18190\, Germany
END:VEVENT
BEGIN:VEVENT
DTSTART;TZID=Europe/Berlin:20260108T133000
DTEND;TZID=Europe/Berlin:20260108T160000
DTSTAMP:20260425T012558
CREATED:20260424T104327Z
LAST-MODIFIED:20260424T104327Z
UID:27305-1767879000-1767888000@gemeindesanitz.de
SUMMARY:Handarbeit
DESCRIPTION:
URL:https://gemeindesanitz.de/event/handarbeit/2026-01-08/
LOCATION:Gemeinschaftshaus Sanitz\, Hof Sanitz 1\, Sanitz\, Mecklenburg Vorpommern\, 18190\, Germany
END:VEVENT
END:VCALENDAR