BEGIN:VCALENDAR
VERSION:2.0
PRODID:-//gemeindesanitz.de - ECPv5.12.4//NONSGML v1.0//EN
CALSCALE:GREGORIAN
METHOD:PUBLISH
X-WR-CALNAME:gemeindesanitz.de
X-ORIGINAL-URL:https://gemeindesanitz.de
X-WR-CALDESC:Events for gemeindesanitz.de
REFRESH-INTERVAL;VALUE=DURATION:PT1H
X-Robots-Tag:noindex
X-PUBLISHED-TTL:PT1H
BEGIN:VTIMEZONE
TZID:Europe/Berlin
BEGIN:DAYLIGHT
TZOFFSETFROM:+0100
TZOFFSETTO:+0200
TZNAME:CEST
DTSTART:20260329T010000
END:DAYLIGHT
BEGIN:STANDARD
TZOFFSETFROM:+0200
TZOFFSETTO:+0100
TZNAME:CET
DTSTART:20261025T010000
END:STANDARD
END:VTIMEZONE
BEGIN:VEVENT
DTSTART;TZID=Europe/Berlin:20261112T133000
DTEND;TZID=Europe/Berlin:20261112T160000
DTSTAMP:20260425T043823
CREATED:20260424T104327Z
LAST-MODIFIED:20260424T104327Z
UID:27351-1794490200-1794499200@gemeindesanitz.de
SUMMARY:Handarbeit
DESCRIPTION:
URL:https://gemeindesanitz.de/event/handarbeit/2026-11-12/
LOCATION:Gemeinschaftshaus Sanitz\, Hof Sanitz 1\, Sanitz\, Mecklenburg Vorpommern\, 18190\, Germany
END:VEVENT
BEGIN:VEVENT
DTSTART;TZID=Europe/Berlin:20261119T133000
DTEND;TZID=Europe/Berlin:20261119T160000
DTSTAMP:20260425T043823
CREATED:20260424T104327Z
LAST-MODIFIED:20260424T104327Z
UID:27352-1795095000-1795104000@gemeindesanitz.de
SUMMARY:Handarbeit
DESCRIPTION:
URL:https://gemeindesanitz.de/event/handarbeit/2026-11-19/
LOCATION:Gemeinschaftshaus Sanitz\, Hof Sanitz 1\, Sanitz\, Mecklenburg Vorpommern\, 18190\, Germany
END:VEVENT
BEGIN:VEVENT
DTSTART;TZID=Europe/Berlin:20261126T133000
DTEND;TZID=Europe/Berlin:20261126T160000
DTSTAMP:20260425T043823
CREATED:20260424T104327Z
LAST-MODIFIED:20260424T104327Z
UID:27353-1795699800-1795708800@gemeindesanitz.de
SUMMARY:Handarbeit
DESCRIPTION:
URL:https://gemeindesanitz.de/event/handarbeit/2026-11-26/
LOCATION:Gemeinschaftshaus Sanitz\, Hof Sanitz 1\, Sanitz\, Mecklenburg Vorpommern\, 18190\, Germany
END:VEVENT
BEGIN:VEVENT
DTSTART;TZID=Europe/Berlin:20261203T133000
DTEND;TZID=Europe/Berlin:20261203T160000
DTSTAMP:20260425T043823
CREATED:20260424T104327Z
LAST-MODIFIED:20260424T104327Z
UID:27354-1796304600-1796313600@gemeindesanitz.de
SUMMARY:Handarbeit
DESCRIPTION:
URL:https://gemeindesanitz.de/event/handarbeit/2026-12-03/
LOCATION:Gemeinschaftshaus Sanitz\, Hof Sanitz 1\, Sanitz\, Mecklenburg Vorpommern\, 18190\, Germany
END:VEVENT
BEGIN:VEVENT
DTSTART;TZID=Europe/Berlin:20261210T133000
DTEND;TZID=Europe/Berlin:20261210T160000
DTSTAMP:20260425T043823
CREATED:20260424T104327Z
LAST-MODIFIED:20260424T104327Z
UID:27355-1796909400-1796918400@gemeindesanitz.de
SUMMARY:Handarbeit
DESCRIPTION:
URL:https://gemeindesanitz.de/event/handarbeit/2026-12-10/
LOCATION:Gemeinschaftshaus Sanitz\, Hof Sanitz 1\, Sanitz\, Mecklenburg Vorpommern\, 18190\, Germany
END:VEVENT
BEGIN:VEVENT
DTSTART;TZID=Europe/Berlin:20261217T133000
DTEND;TZID=Europe/Berlin:20261217T160000
DTSTAMP:20260425T043823
CREATED:20260424T104327Z
LAST-MODIFIED:20260424T104327Z
UID:27356-1797514200-1797523200@gemeindesanitz.de
SUMMARY:Handarbeit
DESCRIPTION:
URL:https://gemeindesanitz.de/event/handarbeit/2026-12-17/
LOCATION:Gemeinschaftshaus Sanitz\, Hof Sanitz 1\, Sanitz\, Mecklenburg Vorpommern\, 18190\, Germany
END:VEVENT
BEGIN:VEVENT
DTSTART;TZID=Europe/Berlin:20261224T133000
DTEND;TZID=Europe/Berlin:20261224T160000
DTSTAMP:20260425T043823
CREATED:20260424T104327Z
LAST-MODIFIED:20260424T104327Z
UID:27357-1798119000-1798128000@gemeindesanitz.de
SUMMARY:Handarbeit
DESCRIPTION:
URL:https://gemeindesanitz.de/event/handarbeit/2026-12-24/
LOCATION:Gemeinschaftshaus Sanitz\, Hof Sanitz 1\, Sanitz\, Mecklenburg Vorpommern\, 18190\, Germany
END:VEVENT
BEGIN:VEVENT
DTSTART;TZID=Europe/Berlin:20261231T133000
DTEND;TZID=Europe/Berlin:20261231T160000
DTSTAMP:20260425T043823
CREATED:20260424T104327Z
LAST-MODIFIED:20260424T104327Z
UID:27358-1798723800-1798732800@gemeindesanitz.de
SUMMARY:Handarbeit
DESCRIPTION:
URL:https://gemeindesanitz.de/event/handarbeit/2026-12-31/
LOCATION:Gemeinschaftshaus Sanitz\, Hof Sanitz 1\, Sanitz\, Mecklenburg Vorpommern\, 18190\, Germany
END:VEVENT
END:VCALENDAR