BEGIN:VCALENDAR
VERSION:2.0
PRODID:-//gemeindesanitz.de - ECPv5.12.4//NONSGML v1.0//EN
CALSCALE:GREGORIAN
METHOD:PUBLISH
X-WR-CALNAME:gemeindesanitz.de
X-ORIGINAL-URL:https://gemeindesanitz.de
X-WR-CALDESC:Events for gemeindesanitz.de
REFRESH-INTERVAL;VALUE=DURATION:PT1H
X-Robots-Tag:noindex
X-PUBLISHED-TTL:PT1H
BEGIN:VTIMEZONE
TZID:Europe/Berlin
BEGIN:DAYLIGHT
TZOFFSETFROM:+0100
TZOFFSETTO:+0200
TZNAME:CEST
DTSTART:20260329T010000
END:DAYLIGHT
BEGIN:STANDARD
TZOFFSETFROM:+0200
TZOFFSETTO:+0100
TZNAME:CET
DTSTART:20261025T010000
END:STANDARD
END:VTIMEZONE
BEGIN:VEVENT
DTSTART;TZID=Europe/Berlin:20261229T200000
DTEND;TZID=Europe/Berlin:20261229T210000
DTSTAMP:20260425T122651
CREATED:20260424T105731Z
LAST-MODIFIED:20260424T105731Z
UID:27623-1798574400-1798578000@gemeindesanitz.de
SUMMARY:Zumba® Fitness
DESCRIPTION:
URL:https://gemeindesanitz.de/event/zumba-fitness/2026-12-29/
LOCATION:Sporthalle I\, John-Brinkmann-Str. 16a\, Sanitz\, Meckenburg-Vorpommern\, 18190\, Germany
END:VEVENT
END:VCALENDAR