BEGIN:VCALENDAR
VERSION:2.0
PRODID:-//gemeindesanitz.de - ECPv5.12.4//NONSGML v1.0//EN
CALSCALE:GREGORIAN
METHOD:PUBLISH
X-WR-CALNAME:gemeindesanitz.de
X-ORIGINAL-URL:https://gemeindesanitz.de
X-WR-CALDESC:Events for gemeindesanitz.de
REFRESH-INTERVAL;VALUE=DURATION:PT1H
X-Robots-Tag:noindex
X-PUBLISHED-TTL:PT1H
BEGIN:VTIMEZONE
TZID:Europe/Berlin
BEGIN:DAYLIGHT
TZOFFSETFROM:+0100
TZOFFSETTO:+0200
TZNAME:CEST
DTSTART:20260329T010000
END:DAYLIGHT
BEGIN:STANDARD
TZOFFSETFROM:+0200
TZOFFSETTO:+0100
TZNAME:CET
DTSTART:20261025T010000
END:STANDARD
END:VTIMEZONE
BEGIN:VEVENT
DTSTART;TZID=Europe/Berlin:20260306T160000
DTEND;TZID=Europe/Berlin:20260306T170000
DTSTAMP:20260424T234636
CREATED:20260424T105226Z
LAST-MODIFIED:20260424T105226Z
UID:27475-1772812800-1772816400@gemeindesanitz.de
SUMMARY:Zumba® Kids
DESCRIPTION:
URL:https://gemeindesanitz.de/event/zumba-kids/2026-03-06/
LOCATION:Sporthalle II\, John-Brinckman-Straße 16 c\, Sanitz\, Mecklenburg Vorpommern\, 18190\, Germany
END:VEVENT
BEGIN:VEVENT
DTSTART;TZID=Europe/Berlin:20260303T200000
DTEND;TZID=Europe/Berlin:20260303T210000
DTSTAMP:20260424T234636
CREATED:20260424T105731Z
LAST-MODIFIED:20260424T105731Z
UID:27580-1772568000-1772571600@gemeindesanitz.de
SUMMARY:Zumba® Fitness
DESCRIPTION:
URL:https://gemeindesanitz.de/event/zumba-fitness/2026-03-03/
LOCATION:Sporthalle I\, John-Brinkmann-Str. 16a\, Sanitz\, Meckenburg-Vorpommern\, 18190\, Germany
END:VEVENT
BEGIN:VEVENT
DTSTART;TZID=Europe/Berlin:20260227T160000
DTEND;TZID=Europe/Berlin:20260227T170000
DTSTAMP:20260424T234636
CREATED:20260424T105226Z
LAST-MODIFIED:20260424T105226Z
UID:27474-1772208000-1772211600@gemeindesanitz.de
SUMMARY:Zumba® Kids
DESCRIPTION:
URL:https://gemeindesanitz.de/event/zumba-kids/2026-02-27/
LOCATION:Sporthalle II\, John-Brinckman-Straße 16 c\, Sanitz\, Mecklenburg Vorpommern\, 18190\, Germany
END:VEVENT
BEGIN:VEVENT
DTSTART;TZID=Europe/Berlin:20260224T200000
DTEND;TZID=Europe/Berlin:20260224T210000
DTSTAMP:20260424T234636
CREATED:20260424T105731Z
LAST-MODIFIED:20260424T105731Z
UID:27579-1771963200-1771966800@gemeindesanitz.de
SUMMARY:Zumba® Fitness
DESCRIPTION:
URL:https://gemeindesanitz.de/event/zumba-fitness/2026-02-24/
LOCATION:Sporthalle I\, John-Brinkmann-Str. 16a\, Sanitz\, Meckenburg-Vorpommern\, 18190\, Germany
END:VEVENT
BEGIN:VEVENT
DTSTART;TZID=Europe/Berlin:20260220T160000
DTEND;TZID=Europe/Berlin:20260220T170000
DTSTAMP:20260424T234636
CREATED:20260424T105226Z
LAST-MODIFIED:20260424T105226Z
UID:27473-1771603200-1771606800@gemeindesanitz.de
SUMMARY:Zumba® Kids
DESCRIPTION:
URL:https://gemeindesanitz.de/event/zumba-kids/2026-02-20/
LOCATION:Sporthalle II\, John-Brinckman-Straße 16 c\, Sanitz\, Mecklenburg Vorpommern\, 18190\, Germany
END:VEVENT
BEGIN:VEVENT
DTSTART;TZID=Europe/Berlin:20260217T200000
DTEND;TZID=Europe/Berlin:20260217T210000
DTSTAMP:20260424T234636
CREATED:20260424T105731Z
LAST-MODIFIED:20260424T105731Z
UID:27578-1771358400-1771362000@gemeindesanitz.de
SUMMARY:Zumba® Fitness
DESCRIPTION:
URL:https://gemeindesanitz.de/event/zumba-fitness/2026-02-17/
LOCATION:Sporthalle I\, John-Brinkmann-Str. 16a\, Sanitz\, Meckenburg-Vorpommern\, 18190\, Germany
END:VEVENT
BEGIN:VEVENT
DTSTART;TZID=Europe/Berlin:20260213T160000
DTEND;TZID=Europe/Berlin:20260213T170000
DTSTAMP:20260424T234636
CREATED:20260424T105226Z
LAST-MODIFIED:20260424T105226Z
UID:27472-1770998400-1771002000@gemeindesanitz.de
SUMMARY:Zumba® Kids
DESCRIPTION:
URL:https://gemeindesanitz.de/event/zumba-kids/2026-02-13/
LOCATION:Sporthalle II\, John-Brinckman-Straße 16 c\, Sanitz\, Mecklenburg Vorpommern\, 18190\, Germany
END:VEVENT
BEGIN:VEVENT
DTSTART;TZID=Europe/Berlin:20260210T200000
DTEND;TZID=Europe/Berlin:20260210T210000
DTSTAMP:20260424T234636
CREATED:20260424T105731Z
LAST-MODIFIED:20260424T105731Z
UID:27577-1770753600-1770757200@gemeindesanitz.de
SUMMARY:Zumba® Fitness
DESCRIPTION:
URL:https://gemeindesanitz.de/event/zumba-fitness/2026-02-10/
LOCATION:Sporthalle I\, John-Brinkmann-Str. 16a\, Sanitz\, Meckenburg-Vorpommern\, 18190\, Germany
END:VEVENT
BEGIN:VEVENT
DTSTART;TZID=Europe/Berlin:20260206T160000
DTEND;TZID=Europe/Berlin:20260206T170000
DTSTAMP:20260424T234636
CREATED:20260424T105226Z
LAST-MODIFIED:20260424T105226Z
UID:27471-1770393600-1770397200@gemeindesanitz.de
SUMMARY:Zumba® Kids
DESCRIPTION:
URL:https://gemeindesanitz.de/event/zumba-kids/2026-02-06/
LOCATION:Sporthalle II\, John-Brinckman-Straße 16 c\, Sanitz\, Mecklenburg Vorpommern\, 18190\, Germany
END:VEVENT
BEGIN:VEVENT
DTSTART;TZID=Europe/Berlin:20260203T200000
DTEND;TZID=Europe/Berlin:20260203T210000
DTSTAMP:20260424T234636
CREATED:20260424T105731Z
LAST-MODIFIED:20260424T105731Z
UID:27576-1770148800-1770152400@gemeindesanitz.de
SUMMARY:Zumba® Fitness
DESCRIPTION:
URL:https://gemeindesanitz.de/event/zumba-fitness/2026-02-03/
LOCATION:Sporthalle I\, John-Brinkmann-Str. 16a\, Sanitz\, Meckenburg-Vorpommern\, 18190\, Germany
END:VEVENT
BEGIN:VEVENT
DTSTART;TZID=Europe/Berlin:20260130T160000
DTEND;TZID=Europe/Berlin:20260130T170000
DTSTAMP:20260424T234636
CREATED:20260424T105226Z
LAST-MODIFIED:20260424T105226Z
UID:27470-1769788800-1769792400@gemeindesanitz.de
SUMMARY:Zumba® Kids
DESCRIPTION:
URL:https://gemeindesanitz.de/event/zumba-kids/2026-01-30/
LOCATION:Sporthalle II\, John-Brinckman-Straße 16 c\, Sanitz\, Mecklenburg Vorpommern\, 18190\, Germany
END:VEVENT
BEGIN:VEVENT
DTSTART;TZID=Europe/Berlin:20260127T200000
DTEND;TZID=Europe/Berlin:20260127T210000
DTSTAMP:20260424T234636
CREATED:20260424T105731Z
LAST-MODIFIED:20260424T105731Z
UID:27575-1769544000-1769547600@gemeindesanitz.de
SUMMARY:Zumba® Fitness
DESCRIPTION:
URL:https://gemeindesanitz.de/event/zumba-fitness/2026-01-27/
LOCATION:Sporthalle I\, John-Brinkmann-Str. 16a\, Sanitz\, Meckenburg-Vorpommern\, 18190\, Germany
END:VEVENT
BEGIN:VEVENT
DTSTART;TZID=Europe/Berlin:20260123T160000
DTEND;TZID=Europe/Berlin:20260123T170000
DTSTAMP:20260424T234636
CREATED:20260424T105226Z
LAST-MODIFIED:20260424T105226Z
UID:27469-1769184000-1769187600@gemeindesanitz.de
SUMMARY:Zumba® Kids
DESCRIPTION:
URL:https://gemeindesanitz.de/event/zumba-kids/2026-01-23/
LOCATION:Sporthalle II\, John-Brinckman-Straße 16 c\, Sanitz\, Mecklenburg Vorpommern\, 18190\, Germany
END:VEVENT
BEGIN:VEVENT
DTSTART;TZID=Europe/Berlin:20260120T200000
DTEND;TZID=Europe/Berlin:20260120T210000
DTSTAMP:20260424T234636
CREATED:20260424T105731Z
LAST-MODIFIED:20260424T105731Z
UID:27574-1768939200-1768942800@gemeindesanitz.de
SUMMARY:Zumba® Fitness
DESCRIPTION:
URL:https://gemeindesanitz.de/event/zumba-fitness/2026-01-20/
LOCATION:Sporthalle I\, John-Brinkmann-Str. 16a\, Sanitz\, Meckenburg-Vorpommern\, 18190\, Germany
END:VEVENT
BEGIN:VEVENT
DTSTART;TZID=Europe/Berlin:20260116T160000
DTEND;TZID=Europe/Berlin:20260116T170000
DTSTAMP:20260424T234636
CREATED:20260424T105226Z
LAST-MODIFIED:20260424T105226Z
UID:27468-1768579200-1768582800@gemeindesanitz.de
SUMMARY:Zumba® Kids
DESCRIPTION:
URL:https://gemeindesanitz.de/event/zumba-kids/2026-01-16/
LOCATION:Sporthalle II\, John-Brinckman-Straße 16 c\, Sanitz\, Mecklenburg Vorpommern\, 18190\, Germany
END:VEVENT
BEGIN:VEVENT
DTSTART;TZID=Europe/Berlin:20260113T200000
DTEND;TZID=Europe/Berlin:20260113T210000
DTSTAMP:20260424T234636
CREATED:20260424T105731Z
LAST-MODIFIED:20260424T105731Z
UID:27573-1768334400-1768338000@gemeindesanitz.de
SUMMARY:Zumba® Fitness
DESCRIPTION:
URL:https://gemeindesanitz.de/event/zumba-fitness/2026-01-13/
LOCATION:Sporthalle I\, John-Brinkmann-Str. 16a\, Sanitz\, Meckenburg-Vorpommern\, 18190\, Germany
END:VEVENT
BEGIN:VEVENT
DTSTART;TZID=Europe/Berlin:20260109T160000
DTEND;TZID=Europe/Berlin:20260109T170000
DTSTAMP:20260424T234636
CREATED:20260424T105226Z
LAST-MODIFIED:20260424T105226Z
UID:27467-1767974400-1767978000@gemeindesanitz.de
SUMMARY:Zumba® Kids
DESCRIPTION:
URL:https://gemeindesanitz.de/event/zumba-kids/2026-01-09/
LOCATION:Sporthalle II\, John-Brinckman-Straße 16 c\, Sanitz\, Mecklenburg Vorpommern\, 18190\, Germany
END:VEVENT
BEGIN:VEVENT
DTSTART;TZID=Europe/Berlin:20260106T200000
DTEND;TZID=Europe/Berlin:20260106T210000
DTSTAMP:20260424T234636
CREATED:20260424T105731Z
LAST-MODIFIED:20260424T105731Z
UID:27571-1767729600-1767733200@gemeindesanitz.de
SUMMARY:Zumba® Fitness
DESCRIPTION:
URL:https://gemeindesanitz.de/event/zumba-fitness/2026-01-06/
LOCATION:Sporthalle I\, John-Brinkmann-Str. 16a\, Sanitz\, Meckenburg-Vorpommern\, 18190\, Germany
END:VEVENT
BEGIN:VEVENT
DTSTART;TZID=Europe/Berlin:20260102T160000
DTEND;TZID=Europe/Berlin:20260102T170000
DTSTAMP:20260424T234636
CREATED:20260424T105226Z
LAST-MODIFIED:20260424T105226Z
UID:27465-1767369600-1767373200@gemeindesanitz.de
SUMMARY:Zumba® Kids
DESCRIPTION:
URL:https://gemeindesanitz.de/event/zumba-kids/2026-01-02/
LOCATION:Sporthalle II\, John-Brinckman-Straße 16 c\, Sanitz\, Mecklenburg Vorpommern\, 18190\, Germany
END:VEVENT
END:VCALENDAR