BEGIN:VCALENDAR
VERSION:2.0
PRODID:-//gemeindesanitz.de - ECPv5.12.4//NONSGML v1.0//EN
CALSCALE:GREGORIAN
METHOD:PUBLISH
X-WR-CALNAME:gemeindesanitz.de
X-ORIGINAL-URL:https://gemeindesanitz.de
X-WR-CALDESC:Events for gemeindesanitz.de
REFRESH-INTERVAL;VALUE=DURATION:PT1H
X-Robots-Tag:noindex
X-PUBLISHED-TTL:PT1H
BEGIN:VTIMEZONE
TZID:Europe/Berlin
BEGIN:DAYLIGHT
TZOFFSETFROM:+0100
TZOFFSETTO:+0200
TZNAME:CEST
DTSTART:20260329T010000
END:DAYLIGHT
BEGIN:STANDARD
TZOFFSETFROM:+0200
TZOFFSETTO:+0100
TZNAME:CET
DTSTART:20261025T010000
END:STANDARD
END:VTIMEZONE
BEGIN:VEVENT
DTSTART;TZID=Europe/Berlin:20260804T200000
DTEND;TZID=Europe/Berlin:20260804T210000
DTSTAMP:20260425T025847
CREATED:20260424T105731Z
LAST-MODIFIED:20260424T105731Z
UID:27602-1785873600-1785877200@gemeindesanitz.de
SUMMARY:Zumba® Fitness
DESCRIPTION:
URL:https://gemeindesanitz.de/event/zumba-fitness/2026-08-04/
LOCATION:Sporthalle I\, John-Brinkmann-Str. 16a\, Sanitz\, Meckenburg-Vorpommern\, 18190\, Germany
END:VEVENT
BEGIN:VEVENT
DTSTART;TZID=Europe/Berlin:20260807T160000
DTEND;TZID=Europe/Berlin:20260807T170000
DTSTAMP:20260425T025847
CREATED:20260424T105226Z
LAST-MODIFIED:20260424T105226Z
UID:27497-1786118400-1786122000@gemeindesanitz.de
SUMMARY:Zumba® Kids
DESCRIPTION:
URL:https://gemeindesanitz.de/event/zumba-kids/2026-08-07/
LOCATION:Sporthalle II\, John-Brinckman-Straße 16 c\, Sanitz\, Mecklenburg Vorpommern\, 18190\, Germany
END:VEVENT
BEGIN:VEVENT
DTSTART;TZID=Europe/Berlin:20260811T200000
DTEND;TZID=Europe/Berlin:20260811T210000
DTSTAMP:20260425T025847
CREATED:20260424T105731Z
LAST-MODIFIED:20260424T105731Z
UID:27603-1786478400-1786482000@gemeindesanitz.de
SUMMARY:Zumba® Fitness
DESCRIPTION:
URL:https://gemeindesanitz.de/event/zumba-fitness/2026-08-11/
LOCATION:Sporthalle I\, John-Brinkmann-Str. 16a\, Sanitz\, Meckenburg-Vorpommern\, 18190\, Germany
END:VEVENT
BEGIN:VEVENT
DTSTART;TZID=Europe/Berlin:20260814T160000
DTEND;TZID=Europe/Berlin:20260814T170000
DTSTAMP:20260425T025847
CREATED:20260424T105226Z
LAST-MODIFIED:20260424T105226Z
UID:27498-1786723200-1786726800@gemeindesanitz.de
SUMMARY:Zumba® Kids
DESCRIPTION:
URL:https://gemeindesanitz.de/event/zumba-kids/2026-08-14/
LOCATION:Sporthalle II\, John-Brinckman-Straße 16 c\, Sanitz\, Mecklenburg Vorpommern\, 18190\, Germany
END:VEVENT
BEGIN:VEVENT
DTSTART;TZID=Europe/Berlin:20260818T200000
DTEND;TZID=Europe/Berlin:20260818T210000
DTSTAMP:20260425T025847
CREATED:20260424T105731Z
LAST-MODIFIED:20260424T105731Z
UID:27604-1787083200-1787086800@gemeindesanitz.de
SUMMARY:Zumba® Fitness
DESCRIPTION:
URL:https://gemeindesanitz.de/event/zumba-fitness/2026-08-18/
LOCATION:Sporthalle I\, John-Brinkmann-Str. 16a\, Sanitz\, Meckenburg-Vorpommern\, 18190\, Germany
END:VEVENT
BEGIN:VEVENT
DTSTART;TZID=Europe/Berlin:20260821T160000
DTEND;TZID=Europe/Berlin:20260821T170000
DTSTAMP:20260425T025847
CREATED:20260424T105226Z
LAST-MODIFIED:20260424T105226Z
UID:27499-1787328000-1787331600@gemeindesanitz.de
SUMMARY:Zumba® Kids
DESCRIPTION:
URL:https://gemeindesanitz.de/event/zumba-kids/2026-08-21/
LOCATION:Sporthalle II\, John-Brinckman-Straße 16 c\, Sanitz\, Mecklenburg Vorpommern\, 18190\, Germany
END:VEVENT
BEGIN:VEVENT
DTSTART;TZID=Europe/Berlin:20260825T200000
DTEND;TZID=Europe/Berlin:20260825T210000
DTSTAMP:20260425T025847
CREATED:20260424T105731Z
LAST-MODIFIED:20260424T105731Z
UID:27605-1787688000-1787691600@gemeindesanitz.de
SUMMARY:Zumba® Fitness
DESCRIPTION:
URL:https://gemeindesanitz.de/event/zumba-fitness/2026-08-25/
LOCATION:Sporthalle I\, John-Brinkmann-Str. 16a\, Sanitz\, Meckenburg-Vorpommern\, 18190\, Germany
END:VEVENT
BEGIN:VEVENT
DTSTART;TZID=Europe/Berlin:20260828T160000
DTEND;TZID=Europe/Berlin:20260828T170000
DTSTAMP:20260425T025847
CREATED:20260424T105226Z
LAST-MODIFIED:20260424T105226Z
UID:27500-1787932800-1787936400@gemeindesanitz.de
SUMMARY:Zumba® Kids
DESCRIPTION:
URL:https://gemeindesanitz.de/event/zumba-kids/2026-08-28/
LOCATION:Sporthalle II\, John-Brinckman-Straße 16 c\, Sanitz\, Mecklenburg Vorpommern\, 18190\, Germany
END:VEVENT
BEGIN:VEVENT
DTSTART;TZID=Europe/Berlin:20260901T200000
DTEND;TZID=Europe/Berlin:20260901T210000
DTSTAMP:20260425T025847
CREATED:20260424T105731Z
LAST-MODIFIED:20260424T105731Z
UID:27606-1788292800-1788296400@gemeindesanitz.de
SUMMARY:Zumba® Fitness
DESCRIPTION:
URL:https://gemeindesanitz.de/event/zumba-fitness/2026-09-01/
LOCATION:Sporthalle I\, John-Brinkmann-Str. 16a\, Sanitz\, Meckenburg-Vorpommern\, 18190\, Germany
END:VEVENT
BEGIN:VEVENT
DTSTART;TZID=Europe/Berlin:20260904T160000
DTEND;TZID=Europe/Berlin:20260904T170000
DTSTAMP:20260425T025847
CREATED:20260424T105226Z
LAST-MODIFIED:20260424T105226Z
UID:27501-1788537600-1788541200@gemeindesanitz.de
SUMMARY:Zumba® Kids
DESCRIPTION:
URL:https://gemeindesanitz.de/event/zumba-kids/2026-09-04/
LOCATION:Sporthalle II\, John-Brinckman-Straße 16 c\, Sanitz\, Mecklenburg Vorpommern\, 18190\, Germany
END:VEVENT
BEGIN:VEVENT
DTSTART;TZID=Europe/Berlin:20260908T200000
DTEND;TZID=Europe/Berlin:20260908T210000
DTSTAMP:20260425T025847
CREATED:20260424T105731Z
LAST-MODIFIED:20260424T105731Z
UID:27607-1788897600-1788901200@gemeindesanitz.de
SUMMARY:Zumba® Fitness
DESCRIPTION:
URL:https://gemeindesanitz.de/event/zumba-fitness/2026-09-08/
LOCATION:Sporthalle I\, John-Brinkmann-Str. 16a\, Sanitz\, Meckenburg-Vorpommern\, 18190\, Germany
END:VEVENT
BEGIN:VEVENT
DTSTART;TZID=Europe/Berlin:20260911T160000
DTEND;TZID=Europe/Berlin:20260911T170000
DTSTAMP:20260425T025847
CREATED:20260424T105226Z
LAST-MODIFIED:20260424T105226Z
UID:27502-1789142400-1789146000@gemeindesanitz.de
SUMMARY:Zumba® Kids
DESCRIPTION:
URL:https://gemeindesanitz.de/event/zumba-kids/2026-09-11/
LOCATION:Sporthalle II\, John-Brinckman-Straße 16 c\, Sanitz\, Mecklenburg Vorpommern\, 18190\, Germany
END:VEVENT
BEGIN:VEVENT
DTSTART;TZID=Europe/Berlin:20260915T200000
DTEND;TZID=Europe/Berlin:20260915T210000
DTSTAMP:20260425T025847
CREATED:20260424T105731Z
LAST-MODIFIED:20260424T105731Z
UID:27608-1789502400-1789506000@gemeindesanitz.de
SUMMARY:Zumba® Fitness
DESCRIPTION:
URL:https://gemeindesanitz.de/event/zumba-fitness/2026-09-15/
LOCATION:Sporthalle I\, John-Brinkmann-Str. 16a\, Sanitz\, Meckenburg-Vorpommern\, 18190\, Germany
END:VEVENT
BEGIN:VEVENT
DTSTART;TZID=Europe/Berlin:20260918T160000
DTEND;TZID=Europe/Berlin:20260918T170000
DTSTAMP:20260425T025847
CREATED:20260424T105226Z
LAST-MODIFIED:20260424T105226Z
UID:27503-1789747200-1789750800@gemeindesanitz.de
SUMMARY:Zumba® Kids
DESCRIPTION:
URL:https://gemeindesanitz.de/event/zumba-kids/2026-09-18/
LOCATION:Sporthalle II\, John-Brinckman-Straße 16 c\, Sanitz\, Mecklenburg Vorpommern\, 18190\, Germany
END:VEVENT
BEGIN:VEVENT
DTSTART;TZID=Europe/Berlin:20260922T200000
DTEND;TZID=Europe/Berlin:20260922T210000
DTSTAMP:20260425T025847
CREATED:20260424T105731Z
LAST-MODIFIED:20260424T105731Z
UID:27609-1790107200-1790110800@gemeindesanitz.de
SUMMARY:Zumba® Fitness
DESCRIPTION:
URL:https://gemeindesanitz.de/event/zumba-fitness/2026-09-22/
LOCATION:Sporthalle I\, John-Brinkmann-Str. 16a\, Sanitz\, Meckenburg-Vorpommern\, 18190\, Germany
END:VEVENT
BEGIN:VEVENT
DTSTART;TZID=Europe/Berlin:20260925T160000
DTEND;TZID=Europe/Berlin:20260925T170000
DTSTAMP:20260425T025847
CREATED:20260424T105226Z
LAST-MODIFIED:20260424T105226Z
UID:27504-1790352000-1790355600@gemeindesanitz.de
SUMMARY:Zumba® Kids
DESCRIPTION:
URL:https://gemeindesanitz.de/event/zumba-kids/2026-09-25/
LOCATION:Sporthalle II\, John-Brinckman-Straße 16 c\, Sanitz\, Mecklenburg Vorpommern\, 18190\, Germany
END:VEVENT
BEGIN:VEVENT
DTSTART;TZID=Europe/Berlin:20260929T200000
DTEND;TZID=Europe/Berlin:20260929T210000
DTSTAMP:20260425T025847
CREATED:20260424T105731Z
LAST-MODIFIED:20260424T105731Z
UID:27610-1790712000-1790715600@gemeindesanitz.de
SUMMARY:Zumba® Fitness
DESCRIPTION:
URL:https://gemeindesanitz.de/event/zumba-fitness/2026-09-29/
LOCATION:Sporthalle I\, John-Brinkmann-Str. 16a\, Sanitz\, Meckenburg-Vorpommern\, 18190\, Germany
END:VEVENT
BEGIN:VEVENT
DTSTART;TZID=Europe/Berlin:20261002T160000
DTEND;TZID=Europe/Berlin:20261002T170000
DTSTAMP:20260425T025847
CREATED:20260424T105226Z
LAST-MODIFIED:20260424T105226Z
UID:27505-1790956800-1790960400@gemeindesanitz.de
SUMMARY:Zumba® Kids
DESCRIPTION:
URL:https://gemeindesanitz.de/event/zumba-kids/2026-10-02/
LOCATION:Sporthalle II\, John-Brinckman-Straße 16 c\, Sanitz\, Mecklenburg Vorpommern\, 18190\, Germany
END:VEVENT
BEGIN:VEVENT
DTSTART;TZID=Europe/Berlin:20261006T200000
DTEND;TZID=Europe/Berlin:20261006T210000
DTSTAMP:20260425T025847
CREATED:20260424T105731Z
LAST-MODIFIED:20260424T105731Z
UID:27611-1791316800-1791320400@gemeindesanitz.de
SUMMARY:Zumba® Fitness
DESCRIPTION:
URL:https://gemeindesanitz.de/event/zumba-fitness/2026-10-06/
LOCATION:Sporthalle I\, John-Brinkmann-Str. 16a\, Sanitz\, Meckenburg-Vorpommern\, 18190\, Germany
END:VEVENT
BEGIN:VEVENT
DTSTART;TZID=Europe/Berlin:20261009T160000
DTEND;TZID=Europe/Berlin:20261009T170000
DTSTAMP:20260425T025847
CREATED:20260424T105226Z
LAST-MODIFIED:20260424T105226Z
UID:27506-1791561600-1791565200@gemeindesanitz.de
SUMMARY:Zumba® Kids
DESCRIPTION:
URL:https://gemeindesanitz.de/event/zumba-kids/2026-10-09/
LOCATION:Sporthalle II\, John-Brinckman-Straße 16 c\, Sanitz\, Mecklenburg Vorpommern\, 18190\, Germany
END:VEVENT
BEGIN:VEVENT
DTSTART;TZID=Europe/Berlin:20261013T200000
DTEND;TZID=Europe/Berlin:20261013T210000
DTSTAMP:20260425T025847
CREATED:20260424T105731Z
LAST-MODIFIED:20260424T105731Z
UID:27612-1791921600-1791925200@gemeindesanitz.de
SUMMARY:Zumba® Fitness
DESCRIPTION:
URL:https://gemeindesanitz.de/event/zumba-fitness/2026-10-13/
LOCATION:Sporthalle I\, John-Brinkmann-Str. 16a\, Sanitz\, Meckenburg-Vorpommern\, 18190\, Germany
END:VEVENT
BEGIN:VEVENT
DTSTART;TZID=Europe/Berlin:20261016T160000
DTEND;TZID=Europe/Berlin:20261016T170000
DTSTAMP:20260425T025847
CREATED:20260424T105226Z
LAST-MODIFIED:20260424T105226Z
UID:27507-1792166400-1792170000@gemeindesanitz.de
SUMMARY:Zumba® Kids
DESCRIPTION:
URL:https://gemeindesanitz.de/event/zumba-kids/2026-10-16/
LOCATION:Sporthalle II\, John-Brinckman-Straße 16 c\, Sanitz\, Mecklenburg Vorpommern\, 18190\, Germany
END:VEVENT
BEGIN:VEVENT
DTSTART;TZID=Europe/Berlin:20261020T200000
DTEND;TZID=Europe/Berlin:20261020T210000
DTSTAMP:20260425T025847
CREATED:20260424T105731Z
LAST-MODIFIED:20260424T105731Z
UID:27613-1792526400-1792530000@gemeindesanitz.de
SUMMARY:Zumba® Fitness
DESCRIPTION:
URL:https://gemeindesanitz.de/event/zumba-fitness/2026-10-20/
LOCATION:Sporthalle I\, John-Brinkmann-Str. 16a\, Sanitz\, Meckenburg-Vorpommern\, 18190\, Germany
END:VEVENT
BEGIN:VEVENT
DTSTART;TZID=Europe/Berlin:20261023T160000
DTEND;TZID=Europe/Berlin:20261023T170000
DTSTAMP:20260425T025847
CREATED:20260424T105226Z
LAST-MODIFIED:20260424T105226Z
UID:27508-1792771200-1792774800@gemeindesanitz.de
SUMMARY:Zumba® Kids
DESCRIPTION:
URL:https://gemeindesanitz.de/event/zumba-kids/2026-10-23/
LOCATION:Sporthalle II\, John-Brinckman-Straße 16 c\, Sanitz\, Mecklenburg Vorpommern\, 18190\, Germany
END:VEVENT
BEGIN:VEVENT
DTSTART;TZID=Europe/Berlin:20261027T200000
DTEND;TZID=Europe/Berlin:20261027T210000
DTSTAMP:20260425T025847
CREATED:20260424T105731Z
LAST-MODIFIED:20260424T105731Z
UID:27614-1793131200-1793134800@gemeindesanitz.de
SUMMARY:Zumba® Fitness
DESCRIPTION:
URL:https://gemeindesanitz.de/event/zumba-fitness/2026-10-27/
LOCATION:Sporthalle I\, John-Brinkmann-Str. 16a\, Sanitz\, Meckenburg-Vorpommern\, 18190\, Germany
END:VEVENT
BEGIN:VEVENT
DTSTART;TZID=Europe/Berlin:20261030T160000
DTEND;TZID=Europe/Berlin:20261030T170000
DTSTAMP:20260425T025847
CREATED:20260424T105226Z
LAST-MODIFIED:20260424T105226Z
UID:27509-1793376000-1793379600@gemeindesanitz.de
SUMMARY:Zumba® Kids
DESCRIPTION:
URL:https://gemeindesanitz.de/event/zumba-kids/2026-10-30/
LOCATION:Sporthalle II\, John-Brinckman-Straße 16 c\, Sanitz\, Mecklenburg Vorpommern\, 18190\, Germany
END:VEVENT
BEGIN:VEVENT
DTSTART;TZID=Europe/Berlin:20261103T200000
DTEND;TZID=Europe/Berlin:20261103T210000
DTSTAMP:20260425T025847
CREATED:20260424T105731Z
LAST-MODIFIED:20260424T105731Z
UID:27615-1793736000-1793739600@gemeindesanitz.de
SUMMARY:Zumba® Fitness
DESCRIPTION:
URL:https://gemeindesanitz.de/event/zumba-fitness/2026-11-03/
LOCATION:Sporthalle I\, John-Brinkmann-Str. 16a\, Sanitz\, Meckenburg-Vorpommern\, 18190\, Germany
END:VEVENT
BEGIN:VEVENT
DTSTART;TZID=Europe/Berlin:20261106T160000
DTEND;TZID=Europe/Berlin:20261106T170000
DTSTAMP:20260425T025847
CREATED:20260424T105226Z
LAST-MODIFIED:20260424T105226Z
UID:27510-1793980800-1793984400@gemeindesanitz.de
SUMMARY:Zumba® Kids
DESCRIPTION:
URL:https://gemeindesanitz.de/event/zumba-kids/2026-11-06/
LOCATION:Sporthalle II\, John-Brinckman-Straße 16 c\, Sanitz\, Mecklenburg Vorpommern\, 18190\, Germany
END:VEVENT
BEGIN:VEVENT
DTSTART;TZID=Europe/Berlin:20261110T200000
DTEND;TZID=Europe/Berlin:20261110T210000
DTSTAMP:20260425T025847
CREATED:20260424T105731Z
LAST-MODIFIED:20260424T105731Z
UID:27616-1794340800-1794344400@gemeindesanitz.de
SUMMARY:Zumba® Fitness
DESCRIPTION:
URL:https://gemeindesanitz.de/event/zumba-fitness/2026-11-10/
LOCATION:Sporthalle I\, John-Brinkmann-Str. 16a\, Sanitz\, Meckenburg-Vorpommern\, 18190\, Germany
END:VEVENT
BEGIN:VEVENT
DTSTART;TZID=Europe/Berlin:20261113T160000
DTEND;TZID=Europe/Berlin:20261113T170000
DTSTAMP:20260425T025847
CREATED:20260424T105226Z
LAST-MODIFIED:20260424T105226Z
UID:27511-1794585600-1794589200@gemeindesanitz.de
SUMMARY:Zumba® Kids
DESCRIPTION:
URL:https://gemeindesanitz.de/event/zumba-kids/2026-11-13/
LOCATION:Sporthalle II\, John-Brinckman-Straße 16 c\, Sanitz\, Mecklenburg Vorpommern\, 18190\, Germany
END:VEVENT
END:VCALENDAR